BEGIN:VCALENDAR
VERSION:2.0
PRODID:-//Leisure360.be - ECPv6.6.3//NONSGML v1.0//EN
CALSCALE:GREGORIAN
METHOD:PUBLISH
X-WR-CALNAME:Leisure360.be
X-ORIGINAL-URL:https://leisure360.be
X-WR-CALDESC:Evenementen voor Leisure360.be
REFRESH-INTERVAL;VALUE=DURATION:PT1H
X-Robots-Tag:noindex
X-PUBLISHED-TTL:PT1H
BEGIN:VTIMEZONE
TZID:Europe/Amsterdam
BEGIN:DAYLIGHT
TZOFFSETFROM:+0100
TZOFFSETTO:+0200
TZNAME:CEST
DTSTART:20220327T010000
END:DAYLIGHT
BEGIN:STANDARD
TZOFFSETFROM:+0200
TZOFFSETTO:+0100
TZNAME:CET
DTSTART:20221030T010000
END:STANDARD
BEGIN:DAYLIGHT
TZOFFSETFROM:+0100
TZOFFSETTO:+0200
TZNAME:CEST
DTSTART:20230326T010000
END:DAYLIGHT
BEGIN:STANDARD
TZOFFSETFROM:+0200
TZOFFSETTO:+0100
TZNAME:CET
DTSTART:20231029T010000
END:STANDARD
BEGIN:DAYLIGHT
TZOFFSETFROM:+0100
TZOFFSETTO:+0200
TZNAME:CEST
DTSTART:20240331T010000
END:DAYLIGHT
BEGIN:STANDARD
TZOFFSETFROM:+0200
TZOFFSETTO:+0100
TZNAME:CET
DTSTART:20241027T010000
END:STANDARD
BEGIN:DAYLIGHT
TZOFFSETFROM:+0100
TZOFFSETTO:+0200
TZNAME:CEST
DTSTART:20250330T010000
END:DAYLIGHT
BEGIN:STANDARD
TZOFFSETFROM:+0200
TZOFFSETTO:+0100
TZNAME:CET
DTSTART:20251026T010000
END:STANDARD
BEGIN:DAYLIGHT
TZOFFSETFROM:+0100
TZOFFSETTO:+0200
TZNAME:CEST
DTSTART:20260329T010000
END:DAYLIGHT
BEGIN:STANDARD
TZOFFSETFROM:+0200
TZOFFSETTO:+0100
TZNAME:CET
DTSTART:20261025T010000
END:STANDARD
END:VTIMEZONE
BEGIN:VEVENT
DTSTART;TZID=Europe/Amsterdam:20260117T100000
DTEND;TZID=Europe/Amsterdam:20260125T180000
DTSTAMP:20260419T213015
CREATED:20251119T145200Z
LAST-MODIFIED:20251119T150551Z
UID:85109-1768644000-1769364000@leisure360.be
SUMMARY:Boot Düsseldorf
DESCRIPTION:De grootste watersportbeurs ter wereld met ruim 1500 standhouders verdeeld over 15 hallen. Naast stands met boten en vaarbenodigdheden zijn er ook diverse kennisprogramma’s over verschillende onderwerpen in de watersport.
URL:https://leisure360.be/evenement/boot-dusseldorf
LOCATION:Messe Düsseldorf\, Düsseldorf\, Duitsland
CATEGORIES:Internationaal,Publieksbeurs,Vakbeurs
ATTACH;FMTTYPE=image/jpeg:https://leisure360.be/wp-content/uploads/sites/2/2025/11/boot-dusseldorf2.jpg
END:VEVENT
BEGIN:VEVENT
DTSTART;TZID=Europe/Amsterdam:20251118T000000
DTEND;TZID=Europe/Amsterdam:20251121T235959
DTSTAMP:20260419T213015
CREATED:20250805T141131Z
LAST-MODIFIED:20250805T142847Z
UID:84746-1763424000-1763769599@leisure360.be
SUMMARY:IAAPA Expo
DESCRIPTION:De grootste internationale vakbeurs voor de attractiesector\, met een uitgebreid kennisprogramma. Waar de beurs in het verleden vooral gericht was op attractieparken en kermissen\, zien we tegenwoordig een verbreding naar ook andere segmenten uit de dagrecreatie zoals Family Entertainment Centers\, Visitor Centers en Retailtainment. (het kennisprogramma begint al een dagje eerder)
URL:https://leisure360.be/evenement/iaapa-expo-3
LOCATION:Orlando\, Florida (VS)\, Orlando\, florida\, Verenigde Staten
CATEGORIES:Internationaal,Vakbeurs
ATTACH;FMTTYPE=image/jpeg:https://leisure360.be/wp-content/uploads/sites/2/2024/06/iaapa-expo.jpg
END:VEVENT
BEGIN:VEVENT
DTSTART;TZID=Europe/Amsterdam:20251105T090000
DTEND;TZID=Europe/Amsterdam:20251106T160000
DTSTAMP:20260419T213015
CREATED:20250523T133600Z
LAST-MODIFIED:20250805T143316Z
UID:84455-1762333200-1762444800@leisure360.be
SUMMARY:Land\, Leisure & Tourism Show
DESCRIPTION:Een bijzonder grote en brede recreatievakbeurs in Groot Brittannië. Er worden binnen het beursconcept meerdere doelgroepen samengevoegd; zo is er een programma voor vakantieparken\, dagattracties\, plattelandsrecreatie en hospitality (eten en drinken).
URL:https://leisure360.be/evenement/land-leisure-tourism-show
LOCATION:NEC Birmingham\, Birmingham\, Verenigd Koninkrijk
CATEGORIES:Internationaal,Vakbeurs
ATTACH;FMTTYPE=image/jpeg:https://leisure360.be/wp-content/uploads/sites/2/2025/05/land-leisure-and-tourism-show.jpg
END:VEVENT
BEGIN:VEVENT
DTSTART;TZID=Europe/Amsterdam:20251104T100000
DTEND;TZID=Europe/Amsterdam:20251106T170000
DTSTAMP:20260419T213015
CREATED:20250606T072453Z
LAST-MODIFIED:20250716T090637Z
UID:84520-1762250400-1762448400@leisure360.be
SUMMARY:Sett - outdoor hospitality
DESCRIPTION:Grote Franse vakbeurs voor de recreatiesector\, met veel aandacht voor campings. Maar ook andere bedrijfstypen komen aan bod zoals hotels\, B&B\, restaurants en strandbestemmingen.
URL:https://leisure360.be/evenement/sett-outdoor-hospitality-2
LOCATION:Montpellier\, Montpellier\, Frankrijk
CATEGORIES:Internationaal,Vakbeurs
ATTACH;FMTTYPE=image/png:https://leisure360.be/wp-content/uploads/sites/2/2023/10/salon-sett-hpa-camping-2022.png
END:VEVENT
BEGIN:VEVENT
DTSTART;TZID=Europe/Amsterdam:20250910T080000
DTEND;TZID=Europe/Amsterdam:20250914T170000
DTSTAMP:20260419T213015
CREATED:20250817T110047Z
LAST-MODIFIED:20250817T113921Z
UID:84784-1757491200-1757869200@leisure360.be
SUMMARY:European City Farm (kinderboerderijen) conference
DESCRIPTION:Jaarlijks congres van de European Federation of City Farms (kinderboerderijen\, met dit jaar als thema ‘City Farms as places of care and connection’. De Belgische gemeente Heule is dit jaar gastheer van de conferentie.
URL:https://leisure360.be/evenement/european-city-farm-kinderboerderijen-conference
CATEGORIES:Congres,Internationaal
ATTACH;FMTTYPE=image/png:https://leisure360.be/wp-content/uploads/sites/2/2025/08/logo-efcf.png
END:VEVENT
BEGIN:VEVENT
DTSTART;TZID=Europe/Amsterdam:20250825T000000
DTEND;TZID=Europe/Amsterdam:20250828T235959
DTSTAMP:20260419T213015
CREATED:20250522T130422Z
LAST-MODIFIED:20250603T111947Z
UID:84451-1756080000-1756425599@leisure360.be
SUMMARY:World Leisure Congress
DESCRIPTION:Het World Leisure Congress (WLO) komt na 13 jaar weer terug in Europa en voor het eerst naar Nederland. Vanuit de hele wereld komen honderden wetenschappers en leisure professionals naar de Breda University of Applied Sciences. Rond het congresthema ‘Leisure for a Better Society’ zullen ze de nieuwste kennis en inzichten uitwisselen. De CELTH Industry Day is een integraal evenement van het World Leisure Congres.
URL:https://leisure360.be/evenement/world-leisure-congress
LOCATION:Breda University\, Breda\, Nederland
CATEGORIES:Congres,Internationaal
ATTACH;FMTTYPE=image/jpeg:https://leisure360.be/wp-content/uploads/sites/2/2025/05/world-leisure-congress.jpg
END:VEVENT
BEGIN:VEVENT
DTSTART;TZID=Europe/Amsterdam:20250526T000000
DTEND;TZID=Europe/Amsterdam:20250527T235959
DTSTAMP:20260419T213015
CREATED:20250403T091045Z
LAST-MODIFIED:20250410T101850Z
UID:84182-1748217600-1748390399@leisure360.be
SUMMARY:Eco Resort Network 2025
DESCRIPTION:Internationaal congres en netwerkbijeenkomst voor eco-resorts zoals glampings\, wellness resorts\, en ecotoeristische accommodaties. (sustainable outdoor hospitality)
URL:https://leisure360.be/evenement/eco-resort-network-2025
CATEGORIES:Congres,Internationaal,Netwerkbijeenkomst
ATTACH;FMTTYPE=image/jpeg:https://leisure360.be/wp-content/uploads/sites/2/2025/04/eco-resort-network.jpg
END:VEVENT
BEGIN:VEVENT
DTSTART;TZID=Europe/Amsterdam:20250506T090000
DTEND;TZID=Europe/Amsterdam:20250509T170000
DTSTAMP:20260419T213015
CREATED:20250319T152252Z
LAST-MODIFIED:20250410T101805Z
UID:84124-1746522000-1746810000@leisure360.be
SUMMARY:SATE Europe
DESCRIPTION:Op het SATE event\, geïnitieerd door branchevereniging TEA\, komen Storytellers\, Architecten\, Thematiseerders en Entertainers bij elkaar om vanuit verschillende disciplines de toekomst van de attractiesector.
URL:https://leisure360.be/evenement/sate-europe
CATEGORIES:Congres,Internationaal
ATTACH;FMTTYPE=image/jpeg:https://leisure360.be/wp-content/uploads/sites/2/2025/03/logo-sate.jpg
END:VEVENT
BEGIN:VEVENT
DTSTART;TZID=Europe/Amsterdam:20250207T000000
DTEND;TZID=Europe/Amsterdam:20250211T235959
DTSTAMP:20260419T213015
CREATED:20241119T124747Z
LAST-MODIFIED:20241119T140801Z
UID:83607-1738886400-1739318399@leisure360.be
SUMMARY:Christmasworld
DESCRIPTION:Vakbeurs voor decoratie en sfeerverlichting. De nadruk ligt hier op de kerstperiode\, maar er is volop aandacht voor andere special events die de nodige aankleding behoeven.
URL:https://leisure360.be/evenement/christmasworld
CATEGORIES:Internationaal,Vakbeurs
ATTACH;FMTTYPE=image/jpeg:https://leisure360.be/wp-content/uploads/sites/2/2024/11/ID_80_CW_ALLGEMEIN_Banner_300x300px_en.jpg
END:VEVENT
BEGIN:VEVENT
DTSTART;TZID=Europe/Amsterdam:20241126T083000
DTEND;TZID=Europe/Amsterdam:20241128T190000
DTSTAMP:20260419T213015
CREATED:20240829T102320Z
LAST-MODIFIED:20241030T093411Z
UID:83212-1732609800-1732820400@leisure360.be
SUMMARY:LeisurUp
DESCRIPTION:LeisurUp is verbonden aan de grootste Europese vastgoedbeurs Mapic en zoomt in op leisure-gerelateerde ontwikkelingen in o.a. winkelgebieden en vastgoedprojecten. Naast een uitgebreide beursvloer zijn er ook volop kennisbijeenkomsten waar de relatie tussen leisure en retail wordt belicht.
URL:https://leisure360.be/evenement/leisurup-2
LOCATION:Cannes (Frankrijk)
CATEGORIES:Internationaal,Vakbeurs
ATTACH;FMTTYPE=image/png:https://leisure360.be/wp-content/uploads/sites/2/2023/08/leisurup-by-mapic-logo-370x125-1.png
END:VEVENT
BEGIN:VEVENT
DTSTART;TZID=Europe/Amsterdam:20241119T000000
DTEND;TZID=Europe/Amsterdam:20241121T235959
DTSTAMP:20260419T213015
CREATED:20240628T150639Z
LAST-MODIFIED:20241030T093436Z
UID:83028-1731974400-1732233599@leisure360.be
SUMMARY:IAAPA Expo Orlando
DESCRIPTION:De grootste en toonaangevende attractievakbeurs ter wereld vind jaarlijks plaats in Orlando (Florida – VS). Op de beursvloer vind je o.a. nieuwe attracties en in het kennisprogramma wordt je bijgepraat over de laatste trends. in de omgeving rond deze vakbeurs vindt je diverse mooie attractieparken en waterparken van o.a. Disney\, Universal en Six Flags. Combineer een trip dan ook vooral met een parkbezoek.
URL:https://leisure360.be/evenement/iaapa-expo-orlando-2
LOCATION:Orlando\, Florida (VS)\, Orlando\, florida\, Verenigde Staten
CATEGORIES:Internationaal,Vakbeurs
ATTACH;FMTTYPE=image/jpeg:https://leisure360.be/wp-content/uploads/sites/2/2024/06/iaapa-expo.jpg
END:VEVENT
BEGIN:VEVENT
DTSTART;TZID=Europe/Amsterdam:20241113T090000
DTEND;TZID=Europe/Amsterdam:20241115T180000
DTSTAMP:20260419T213015
CREATED:20240822T091922Z
LAST-MODIFIED:20241030T093543Z
UID:83190-1731488400-1731693600@leisure360.be
SUMMARY:International (boat) Charter Expo
DESCRIPTION:Een van de grootste b2b meetings op het gebied van verhuur van recreatiejachten. Dit is internationaal een enorm groeiend business-segment waarvan ook het waterrijke Nederland volop kan profiteren. Ruim 600 bedrijven presenteren hier hun zakelijke proposities. De organisatie is in handen van de Kroatische Yachtmaster Group
URL:https://leisure360.be/evenement/international-boat-charter-expo
CATEGORIES:Internationaal,Vakbeurs
ATTACH;FMTTYPE=image/jpeg:https://leisure360.be/wp-content/uploads/sites/2/2024/08/yacht-charter-event2.jpg
END:VEVENT
BEGIN:VEVENT
DTSTART;TZID=Europe/Amsterdam:20231115T090000
DTEND;TZID=Europe/Amsterdam:20231116T170000
DTSTAMP:20260419T213015
CREATED:20230815T142848Z
LAST-MODIFIED:20230816T095951Z
UID:81650-1700038800-1700154000@leisure360.be
SUMMARY:Family Attraction Expo & More...
DESCRIPTION:In Birmingham worden enkele vakbeurzen in de recreatiesector tegelijkertijd georganiseerd. De Family Attraction Expo richt zich op Family Entertainment Centra en kleinschaliger attracties (grote pretparken gaan eerder naar de IAAPA Expo); Holiday Park & Resort richt zich op campings en vakantieparken; Farm Business Innovation is interessant voor recreatie en toerisme op het platteland; en dan is er nog de Leisure F&B expo voor foodservice in de recreatiesector.
URL:https://leisure360.be/evenement/family-attraction-expo-more
LOCATION:NEC Birmingham\, Birmingham\, Verenigd Koninkrijk
CATEGORIES:Internationaal,Vakbeurs
ATTACH;FMTTYPE=image/jpeg:https://leisure360.be/wp-content/uploads/sites/2/2023/08/Family-Attraction-Expo.jpg
END:VEVENT
BEGIN:VEVENT
DTSTART;TZID=Europe/Amsterdam:20231114T100000
DTEND;TZID=Europe/Amsterdam:20231117T180000
DTSTAMP:20260419T213015
CREATED:20230815T144426Z
LAST-MODIFIED:20230831T155757Z
UID:81653-1699956000-1700244000@leisure360.be
SUMMARY:IAAPA Expo
DESCRIPTION:De grootste vakbeurs ter wereld voor de attractiesector\, georganiseerd door IAAPA in Orlando\, Florida. Naast een zeer uitgebreide expo zijn er ook diverse interessante lezingen en presentaties over trends en ontwikkelingen in de attractiesector. De beurs richt zich niet alleen op attractieparken\, maar ook op waterparken\,  kermissen\, visitor centers\, fec’s\, gaming en indoor entertainment. Het kennisprogramma begint al een dagje eerder.
URL:https://leisure360.be/evenement/iaapa-expo-2
LOCATION:Kans op verbranding steeds groter door toenemende zonnekracht
CATEGORIES:Internationaal,Vakbeurs
ATTACH;FMTTYPE=image/jpeg:https://leisure360.be/wp-content/uploads/sites/2/2023/08/iaapa-expo.jpg
END:VEVENT
BEGIN:VEVENT
DTSTART;TZID=Europe/Amsterdam:20231010T000000
DTEND;TZID=Europe/Amsterdam:20231012T235959
DTSTAMP:20260419T213015
CREATED:20230815T135929Z
LAST-MODIFIED:20230921T110136Z
UID:81646-1696896000-1697155199@leisure360.be
SUMMARY:Salon Atlantica
DESCRIPTION:Internationale vakbeurs voor glamping en outdoor activiteiten.
URL:https://leisure360.be/evenement/salon-atlantica-la-rochelle
CATEGORIES:Internationaal,Vakbeurs
ATTACH;FMTTYPE=image/png:https://leisure360.be/wp-content/uploads/sites/2/2023/08/Atlantica-logo.png
END:VEVENT
BEGIN:VEVENT
DTSTART;TZID=Europe/Amsterdam:20230914T000000
DTEND;TZID=Europe/Amsterdam:20230916T235959
DTSTAMP:20260419T213015
CREATED:20230815T134601Z
LAST-MODIFIED:20230816T095028Z
UID:81644-1694649600-1694908799@leisure360.be
SUMMARY:The Glamping Show
DESCRIPTION:Een grote en gezellige vakbeurs voor glamping-professionals in ’the British Countryside’. Staat al jarenlang bekend om sfeervolle en innovatieve concepten.
URL:https://leisure360.be/evenement/the-glamping-show-3
LOCATION:Stoneleigh\, Stoneleigh\, Verenigd Koninkrijk
CATEGORIES:Internationaal,Vakbeurs
ATTACH;FMTTYPE=image/png:https://leisure360.be/wp-content/uploads/sites/2/2023/08/the-glamping-show.png
END:VEVENT
BEGIN:VEVENT
DTSTART;TZID=Europe/Amsterdam:20230314T080000
DTEND;TZID=Europe/Amsterdam:20230316T170000
DTSTAMP:20260419T213015
CREATED:20221220T152644Z
LAST-MODIFIED:20221220T152644Z
UID:78279-1678780800-1678986000@leisure360.be
SUMMARY:Rimini Amusement Show
DESCRIPTION:Rimini Amusement Show\, scheduled 14-16 March 2023​ at Rimini Expo Centre (ITALY)\, is the reference b2b show for the operators of the world of amusements.
URL:https://leisure360.be/evenement/rimini-amusment-show
LOCATION:Rimini\, Italië
CATEGORIES:Internationaal,Vakbeurs
ATTACH;FMTTYPE=:
END:VEVENT
BEGIN:VEVENT
DTSTART;TZID=Europe/Amsterdam:20230110T100000
DTEND;TZID=Europe/Amsterdam:20230112T170000
DTSTAMP:20260419T213015
CREATED:20221229T150652Z
LAST-MODIFIED:20221229T150652Z
UID:78380-1673344800-1673542800@leisure360.be
SUMMARY:Entertainment Attractions & Gaming Expo\, London
DESCRIPTION:The Entertainment\, Attractions & Gaming International Expo (EAG Expo 2023)\, is the leisure industry’s leading coin-operated amusements show and a great opportunity for visitors to keep up to date with what’s new in coin-op visitor attractions\, entertainment and gaming.
URL:https://leisure360.be/evenement/entertainment-attractions-gaming-expo-london
LOCATION:Excel\, Londen\, Verenigd Koninkrijk
CATEGORIES:Internationaal,Vakbeurs
ATTACH;FMTTYPE=:
END:VEVENT
BEGIN:VEVENT
DTSTART;TZID=Europe/Amsterdam:20221129T000000
DTEND;TZID=Europe/Amsterdam:20221201T235959
DTSTAMP:20260419T213015
CREATED:20220628T144344Z
LAST-MODIFIED:20220628T144344Z
UID:75962-1669680000-1669939199@leisure360.be
SUMMARY:LeisurUp by Mapic
DESCRIPTION:Internationale vakbeurs voor leisurebedrijven. (turning location-based attractions into lifestyle destinations including retail sites\, urban areas\, transport hubs and travel destinations) Het event is gekoppeld aan Mapic\, de toonaangevende internationale beurs voor retailprofessionals.
URL:https://leisure360.be/evenement/leisurup-by-mapic-2
LOCATION:Cannes (Frankrijk)
CATEGORIES:Internationaal,Vakbeurs
ATTACH;FMTTYPE=:
END:VEVENT
BEGIN:VEVENT
DTSTART;TZID=Europe/Amsterdam:20221102T100000
DTEND;TZID=Europe/Amsterdam:20221103T160000
DTSTAMP:20260419T213015
CREATED:20220701T202138Z
LAST-MODIFIED:20220701T202138Z
UID:76049-1667383200-1667491200@leisure360.be
SUMMARY:Vakbeurs (UK) voor diverse leisure marktsegmenten
DESCRIPTION:Het NEC eventcenter in Birmingham (UK) staat op 2 en 3 november volop in het teken van leisure. Er worden maar liefst zes vakbeurzen\, voor verschillende marktsegmenten tegelijk georganiseerd: \n\n\n\nThe Holiday Park & Resort Innovation; The Farm Business Innovation; Family Attraction Expo; Country House Business Innovation; Leisure Food & Beverage Expo; Leisure Toy & Gift Fair.
URL:https://leisure360.be/evenement/vakbeurs-uk-voor-diverse-leisure-marktsegmenten
LOCATION:NEC Birmingham\, Birmingham\, Verenigd Koninkrijk
CATEGORIES:Internationaal,Vakbeurs
ATTACH;FMTTYPE=:
END:VEVENT
BEGIN:VEVENT
DTSTART;TZID=Europe/Amsterdam:20220915T090000
DTEND;TZID=Europe/Amsterdam:20220916T180000
DTSTAMP:20260419T213015
CREATED:20220908T091920Z
LAST-MODIFIED:20220908T091920Z
UID:76885-1663232400-1663351200@leisure360.be
SUMMARY:Vacation Rental World Summit
DESCRIPTION:VRWS is an in-person live event gathering top industry experts and key players within the global vacation rental industry. Hosts\, property managers and professionals debate on what’s coming\, how to get more bookings\, streamline workflows and maximize rental income.
URL:https://leisure360.be/evenement/vacation-rental-world-summit
LOCATION:Porto\, Porto\, Portugal
CATEGORIES:Congres,Internationaal
ATTACH;FMTTYPE=:
END:VEVENT
BEGIN:VEVENT
DTSTART;TZID=Europe/Amsterdam:20220915T000000
DTEND;TZID=Europe/Amsterdam:20220917T235959
DTSTAMP:20260419T213015
CREATED:20220701T205140Z
LAST-MODIFIED:20220701T205140Z
UID:76066-1663200000-1663459199@leisure360.be
SUMMARY:The Glamping Show
DESCRIPTION:Grote internationale vakbeurs voor glampingconcepten op een groot terrein in het Britse Stoneleigh. Je vindt hier niet alleen accommodaties\, maar ook alle onderdelen en kennis om je glampingconcept succesvol in te vullen
URL:https://leisure360.be/evenement/the-glamping-show-2
LOCATION:Stoneleigh\, Stoneleigh\, Verenigd Koninkrijk
CATEGORIES:Internationaal,Vakbeurs
ATTACH;FMTTYPE=:
END:VEVENT
BEGIN:VEVENT
DTSTART;TZID=Europe/Amsterdam:20220913T000000
DTEND;TZID=Europe/Amsterdam:20220915T235959
DTSTAMP:20260419T213015
CREATED:20220628T150344Z
LAST-MODIFIED:20220628T150344Z
UID:75966-1663027200-1663286399@leisure360.be
SUMMARY:IAAPA Expo Europe
DESCRIPTION:De grootste attractievakbeurs in Europa. Naast de Expo zijn er ook diverse interessante lezingen. Het congresprogramma start op 12 september. De IAAPA Expo Europe heeft in de loop der jaren een steeds bredere scope gekregen. Naast de traditionele attractieparken\, kermissen en waterparken worden nu ook ook de Family Entertainment Centra\, indoor attracties\, retailtainment\, vakantieparken\, bezoekerscentra e.v.a. tot de doelgroep van de beurs gerekend.
URL:https://leisure360.be/evenement/iaapa-expo-europe-2
LOCATION:London (UK)
CATEGORIES:Congres,Internationaal,Vakbeurs
ATTACH;FMTTYPE=:
END:VEVENT
BEGIN:VEVENT
DTSTART;TZID=Europe/Amsterdam:20220826T100000
DTEND;TZID=Europe/Amsterdam:20220904T180000
DTSTAMP:20260419T213015
CREATED:20220701T200514Z
LAST-MODIFIED:20220701T200514Z
UID:76045-1661508000-1662314400@leisure360.be
SUMMARY:Caravan Salon Düsseldorf
DESCRIPTION:Grote campingbeurs in het Ruhrgebied – een van de belangrijkste buitenlandse markten voor Nederlandse campings. Op 26 augustus is er een preview dag voor b2b contacten.
URL:https://leisure360.be/evenement/caravan-salon-dusseldorf-2
LOCATION:Messe Düsseldorf\, Düsseldorf\, Duitsland
CATEGORIES:Internationaal,Publieksbeurs
ATTACH;FMTTYPE=:
END:VEVENT
BEGIN:VEVENT
DTSTART;TZID=Europe/Amsterdam:20220511T110000
DTEND;TZID=Europe/Amsterdam:20220513T140000
DTSTAMP:20260419T213015
CREATED:20220406T083450Z
LAST-MODIFIED:20220406T083450Z
UID:74832-1652266800-1652450400@leisure360.be
SUMMARY:IAAPA EMEA Spring Summit
DESCRIPTION:IAAPA is excited to offer exclusive access to three of popular attractions during IAAPA EMEA Spring Summit – a three-day event filled with insightful panels\, keynote presentations\, and networking opportunities.
URL:https://leisure360.be/evenement/iaapa-emea-spring-summit
LOCATION:Rome
CATEGORIES:Congres,Internationaal
ATTACH;FMTTYPE=:
END:VEVENT
BEGIN:VEVENT
DTSTART;TZID=Europe/Amsterdam:20220510T080000
DTEND;TZID=Europe/Amsterdam:20220513T170000
DTSTAMP:20260419T213015
CREATED:20220228T153204Z
LAST-MODIFIED:20220228T153204Z
UID:74270-1652169600-1652461200@leisure360.be
SUMMARY:Integrated Systems
DESCRIPTION:Techniekbeurs voor Audio-visuele toepassingen.
URL:https://leisure360.be/evenement/integrated-systems
LOCATION:Barcelona
CATEGORIES:Internationaal,Vakbeurs
ATTACH;FMTTYPE=:
END:VEVENT
BEGIN:VEVENT
DTSTART;TZID=Europe/Amsterdam:20220504T080000
DTEND;TZID=Europe/Amsterdam:20220507T170000
DTSTAMP:20260419T213015
CREATED:20220228T155426Z
LAST-MODIFIED:20220228T155426Z
UID:74279-1651651200-1651942800@leisure360.be
SUMMARY:TEA SATE Europe (attractie-ontwikkeling)
DESCRIPTION:SATE staat voor Storytelling\, Architecture\, Technique en Experience. Dit zijn allemaal ingrediënten die samen (kunnen) leiden tot een prachtige attractie. Tijdens dit event gaan deskundigen van de diverse vakgebieden het gesprek met elkaar aan. De organisatie is in handen van de Themed Entertainment Association (TEA)
URL:https://leisure360.be/evenement/tea-sate-europe-attractie-ontwikkeling
LOCATION:Göteborg\, Zweden
CATEGORIES:Congres,Internationaal
ATTACH;FMTTYPE=:
END:VEVENT
BEGIN:VEVENT
DTSTART;TZID=Europe/Amsterdam:20220419T080000
DTEND;TZID=Europe/Amsterdam:20220420T170000
DTSTAMP:20260419T213015
CREATED:20220107T121854Z
LAST-MODIFIED:20220107T121854Z
UID:73565-1650355200-1650474000@leisure360.be
SUMMARY:Greenloop - sustainability in visitor attractions
DESCRIPTION:Blooloop’s online conference focussing on sustainability in visitor attractions.
URL:https://leisure360.be/evenement/greenloop-sustainability-in-visitor-attractions
LOCATION:Online
CATEGORIES:Congres,Internationaal,webinar
ATTACH;FMTTYPE=:
END:VEVENT
BEGIN:VEVENT
DTSTART;TZID=Europe/Amsterdam:20220313T080000
DTEND;TZID=Europe/Amsterdam:20220317T170000
DTSTAMP:20260419T213015
CREATED:20220208T153401Z
LAST-MODIFIED:20220208T153401Z
UID:73953-1647158400-1647536400@leisure360.be
SUMMARY:Inspiratiereis Dubai 2022
DESCRIPTION:De tour is in het bijzonder zeer interessant voor professionals die actief zijn binnen de vrijetijdssector\, zoals attractie/themapark- en entertainmentbedrijven\, familie entertainment centra\, musea\, hotel- en vakantieresorts en game-industrie.
URL:https://leisure360.be/evenement/inspiratiereis-dubai-2022
LOCATION:Dubai
CATEGORIES:Internationaal,studiereis
ATTACH;FMTTYPE=:
END:VEVENT
BEGIN:VEVENT
DTSTART;TZID=Europe/Amsterdam:20220301T080000
DTEND;TZID=Europe/Amsterdam:20220303T170000
DTSTAMP:20260419T213015
CREATED:20220228T154109Z
LAST-MODIFIED:20220228T154109Z
UID:74274-1646121600-1646326800@leisure360.be
SUMMARY:Entertainment\, Attractions & Gaming International Expo
DESCRIPTION:EAG 2022 is the leisure industry’s leading coin-operated amusements show and a great opportunity to keep up to date with what’s new in coin-op visitor attractions\, entertainment and gaming.
URL:https://leisure360.be/evenement/entertainment-attractions-gaming-international-expo
LOCATION:Londen
CATEGORIES:Internationaal,Vakbeurs
ATTACH;FMTTYPE=:
END:VEVENT
END:VCALENDAR