BEGIN:VCALENDAR
VERSION:2.0
PRODID:-//Leisure360.be - ECPv6.6.3//NONSGML v1.0//EN
CALSCALE:GREGORIAN
METHOD:PUBLISH
X-WR-CALNAME:Leisure360.be
X-ORIGINAL-URL:https://leisure360.be
X-WR-CALDESC:Evenementen voor Leisure360.be
REFRESH-INTERVAL;VALUE=DURATION:PT1H
X-Robots-Tag:noindex
X-PUBLISHED-TTL:PT1H
BEGIN:VTIMEZONE
TZID:Europe/Amsterdam
BEGIN:DAYLIGHT
TZOFFSETFROM:+0100
TZOFFSETTO:+0200
TZNAME:CEST
DTSTART:20260329T010000
END:DAYLIGHT
BEGIN:STANDARD
TZOFFSETFROM:+0200
TZOFFSETTO:+0100
TZNAME:CET
DTSTART:20261025T010000
END:STANDARD
END:VTIMEZONE
BEGIN:VEVENT
DTSTART;TZID=Europe/Amsterdam:20260422T100000
DTEND;TZID=Europe/Amsterdam:20260423T170000
DTSTAMP:20260420T123354
CREATED:20260224T104722Z
LAST-MODIFIED:20260318T123858Z
UID:85474-1776852000-1776963600@leisure360.be
SUMMARY:Independent Hotel Show
DESCRIPTION:Een b2b event voor de sector van luxe en boutique hotels en accommodaties. Het is een combinatie van een vakbeurs met ruim 200 standhouders en een congresprogramma\, waarin actuele topics voor de sector hospitality worden besproken.
URL:https://leisure360.be/evenement/independent-hotel-show-4
LOCATION:RAI Amsterdam\, Amsterdam
CATEGORIES:Congres,Vakbeurs
ATTACH;FMTTYPE=image/jpeg:https://leisure360.be/wp-content/uploads/sites/2/2023/11/independent-hotel-show.jpg
END:VEVENT
BEGIN:VEVENT
DTSTART;TZID=Europe/Amsterdam:20260623T000000
DTEND;TZID=Europe/Amsterdam:20260625T235959
DTSTAMP:20260420T123354
CREATED:20260315T131051Z
LAST-MODIFIED:20260318T123806Z
UID:85545-1782172800-1782431999@leisure360.be
SUMMARY:Immersive Tech Week
DESCRIPTION:Op de Immersive Tech Week (voorheen VR Days) kun je kennis maken met de ontwikkelende technieken die belevingsaspecten beïnvloeden. Wat ooit begon als de VR-days is inmiddels uitgegroeid tot een beurs en conferentie die bezoekers vanuit de hele wereld aanspreekt. Centraal staan ‘immersive’ technieken zoals bijvoorbeeld VR\, AR\, mixed reality en hologrammen. Het event is niet specifiek gericht op de recreatiesector\, maar er zijn wel vele toepassingen die voor de sector leisure relevant (kunnen) zijn.
URL:https://leisure360.be/evenement/immersive-tech-week-2
CATEGORIES:Congres,Internationaal,Vakbeurs
ATTACH;FMTTYPE=image/jpeg:https://leisure360.be/wp-content/uploads/sites/2/2026/03/immersive-tech-week.jpg
END:VEVENT
END:VCALENDAR