BEGIN:VCALENDAR
VERSION:2.0
PRODID:-//Leisure360.be - ECPv6.6.3//NONSGML v1.0//EN
CALSCALE:GREGORIAN
METHOD:PUBLISH
X-WR-CALNAME:Leisure360.be
X-ORIGINAL-URL:https://leisure360.be
X-WR-CALDESC:Evenementen voor Leisure360.be
REFRESH-INTERVAL;VALUE=DURATION:PT1H
X-Robots-Tag:noindex
X-PUBLISHED-TTL:PT1H
BEGIN:VTIMEZONE
TZID:Europe/Amsterdam
BEGIN:DAYLIGHT
TZOFFSETFROM:+0100
TZOFFSETTO:+0200
TZNAME:CEST
DTSTART:20230326T010000
END:DAYLIGHT
BEGIN:STANDARD
TZOFFSETFROM:+0200
TZOFFSETTO:+0100
TZNAME:CET
DTSTART:20231029T010000
END:STANDARD
BEGIN:DAYLIGHT
TZOFFSETFROM:+0100
TZOFFSETTO:+0200
TZNAME:CEST
DTSTART:20240331T010000
END:DAYLIGHT
BEGIN:STANDARD
TZOFFSETFROM:+0200
TZOFFSETTO:+0100
TZNAME:CET
DTSTART:20241027T010000
END:STANDARD
BEGIN:DAYLIGHT
TZOFFSETFROM:+0100
TZOFFSETTO:+0200
TZNAME:CEST
DTSTART:20250330T010000
END:DAYLIGHT
BEGIN:STANDARD
TZOFFSETFROM:+0200
TZOFFSETTO:+0100
TZNAME:CET
DTSTART:20251026T010000
END:STANDARD
TZID:Europe/Brussels
BEGIN:DAYLIGHT
TZOFFSETFROM:+0100
TZOFFSETTO:+0200
TZNAME:CEST
DTSTART:20230326T010000
END:DAYLIGHT
BEGIN:STANDARD
TZOFFSETFROM:+0200
TZOFFSETTO:+0100
TZNAME:CET
DTSTART:20231029T010000
END:STANDARD
END:VTIMEZONE
BEGIN:VEVENT
DTSTART;TZID=Europe/Amsterdam:20250917T110000
DTEND;TZID=Europe/Amsterdam:20250918T170000
DTSTAMP:20260420T153802
CREATED:20250530T114159Z
LAST-MODIFIED:20250817T111008Z
UID:84469-1758106800-1758214800@leisure360.be
SUMMARY:Vieww - luxury glamping event
DESCRIPTION:Tijdens deze inspirerende netwerkdag krijg je waardevolle inzichten in de glamping sector\, ontdek je de nieuwste trends\, innovatieve accommodaties en maak je kennis met toonaangevende partners en hun vernieuwende producten.
URL:https://leisure360.be/evenement/vieww-luxury-glamping-event-2
CATEGORIES:Netwerkbijeenkomst,Vakbeurs
ATTACH;FMTTYPE=image/jpeg:https://leisure360.be/wp-content/uploads/sites/2/2025/05/vieww.jpg
END:VEVENT
BEGIN:VEVENT
DTSTART;TZID=Europe/Amsterdam:20250625T100000
DTEND;TZID=Europe/Amsterdam:20250625T180000
DTSTAMP:20260420T153802
CREATED:20250307T114903Z
LAST-MODIFIED:20250410T101706Z
UID:84086-1750845600-1750874400@leisure360.be
SUMMARY:Vakbeurs Family Entertainment Centers 
DESCRIPTION:Een vakdag op een bijzondere locatie; Eiland van Maurik. Hier is in de zomer van 2024 een Family Entertainment Center geopend; Mauk. De vakdag is een mix van vakbeurs\, lezingen en netwerken. Met als kers op de taart; rondkijken op een bijzonder modern FEC op een vakantiepark.
URL:https://leisure360.be/evenement/vakbeurs-family-entertainment-centers
CATEGORIES:Congres,Vakbeurs
ATTACH;FMTTYPE=image/jpeg:https://leisure360.be/wp-content/uploads/sites/2/2025/02/vakdag-fec.jpg
END:VEVENT
BEGIN:VEVENT
DTSTART;TZID=Europe/Amsterdam:20250624T100000
DTEND;TZID=Europe/Amsterdam:20250624T180000
DTSTAMP:20260420T153802
CREATED:20250307T113643Z
LAST-MODIFIED:20250410T101732Z
UID:84085-1750759200-1750788000@leisure360.be
SUMMARY:Vakbeurs Vakantiehuis van de Toekomst
DESCRIPTION:Vakbeurs met kennisprogramma en netwerkbijeenkomst\, gericht op ontwikkelaars en beheerders van vakantieparken. De organisatie is in handen van Pleisureworld.
URL:https://leisure360.be/evenement/vakbeurs-vakantiehuis-van-de-toekomst
CATEGORIES:Congres,Vakbeurs
ATTACH;FMTTYPE=image/png:https://leisure360.be/wp-content/uploads/sites/2/2024/11/banner-Vakantiehuis-van-de-toekomst.png
END:VEVENT
BEGIN:VEVENT
DTSTART;TZID=Europe/Amsterdam:20250527T000000
DTEND;TZID=Europe/Amsterdam:20250528T235959
DTSTAMP:20260420T153802
CREATED:20250506T095326Z
LAST-MODIFIED:20250513T093842Z
UID:84369-1748304000-1748476799@leisure360.be
SUMMARY:Indigo (Games)
DESCRIPTION:Indigo is de jaarlijkse ontmoetingsplek voor games-ontwikkelaars. Er zijn niet alleen online games\, maar ook games die worden ontwikkeld voor een fysieke ruimte. Dat biedt (ook) inspiratie voor nieuwe activiteiten in een recreatieve omgeving. De organisatie is een samenwerking van de Dutch Games Association\, de gemeente Rotterdam en het Vlaamse VAF/Gamefonds.
URL:https://leisure360.be/evenement/indigo-games
CATEGORIES:Congres,Vakbeurs
ATTACH;FMTTYPE=image/jpeg:https://leisure360.be/wp-content/uploads/sites/2/2025/05/indigo-showcase.jpg
END:VEVENT
BEGIN:VEVENT
DTSTART;TZID=Europe/Amsterdam:20250515T090000
DTEND;TZID=Europe/Amsterdam:20250515T160000
DTSTAMP:20260420T153802
CREATED:20250328T144725Z
LAST-MODIFIED:20250410T101913Z
UID:84162-1747299600-1747324800@leisure360.be
SUMMARY:Vakbeurs Openbare Ruimte (België)
DESCRIPTION:Het grootste evenement in België op het gebied van inrichting en beheer van publieke en semi-publieke ruimte. Met o.a. veel aanbieders die ook voor de inrichting van recreatiebedrijven relevant zijn zoals groenvoorziening\, verlichting\, bestrating\, speeltoestellen of straatmeubilair.
URL:https://leisure360.be/evenement/vakbeurs-openbare-ruimte-belgie
LOCATION:Dit waren de boekingstrends van 2025 op Glampings.com
CATEGORIES:Vakbeurs
ATTACH;FMTTYPE=image/png:https://leisure360.be/wp-content/uploads/sites/2/2025/03/VORBE2025-logo.png
END:VEVENT
BEGIN:VEVENT
DTSTART;TZID=Europe/Amsterdam:20250212T110000
DTEND;TZID=Europe/Amsterdam:20250213T160000
DTSTAMP:20260420T153802
CREATED:20241014T075141Z
LAST-MODIFIED:20241231T125702Z
UID:83356-1739358000-1739462400@leisure360.be
SUMMARY:Recreatie Next Level
DESCRIPTION:Recreatie Next Level is dé next step naar inspiratie en kennis voor de (toekomstige) recreatieprofessional. Tijdens dit event\, speciaal ontwikkeld voor recreatieondernemers\, marketeers en de technische dienst\, ontdek je de nieuwste trends\, inzichten en praktische oplossingen om jouw organisatie naar een hoger niveau te tillen. Tussen 11.00 en 16.00 uur kan er deelgenomen worden aan diverse workshops\, lezingen en paneldiscussies. Voor iedere professional is er een passend aanbod: \n\n\n\nVoor marketeers: \n\n\n\n\nNeem deel aan de marketeerslunch en bespreek je marketinguitdagingen met experts\n\n\n\nVolg één van de inspirerende workshops\, zoals Hoe maak je een marketingplan? Door Johanna Oosterbaan\n\n\n\n\nVoor ondernemers en technische dienst: \n\n\n\n\nSluit aan bij de ondernemers- of de technieklunch en laat je inspireren door praktijkvoorbeelden\n\n\n\nVolg lezingen over actuele onderwerpen zoals AI\, ethisch hacken en het NRIT trendrapport\n\n\n\n\nMet meer dan 60 experts die hun kennis en expertise delen\, biedt Recreatie Next Level jou waardevolle inzichten die direct toepasbaar zijn in jouw dagelijkse praktijk.
URL:https://leisure360.be/evenement/recreatie-next-level-2
LOCATION:move24
CATEGORIES:Congres,Vakbeurs
ATTACH;FMTTYPE=image/jpeg:https://leisure360.be/wp-content/uploads/sites/2/2024/11/Recreatie_NextLevel_2024.jpg
END:VEVENT
BEGIN:VEVENT
DTSTART;TZID=Europe/Amsterdam:20250207T000000
DTEND;TZID=Europe/Amsterdam:20250211T235959
DTSTAMP:20260420T153802
CREATED:20241119T124747Z
LAST-MODIFIED:20241119T140801Z
UID:83607-1738886400-1739318399@leisure360.be
SUMMARY:Christmasworld
DESCRIPTION:Vakbeurs voor decoratie en sfeerverlichting. De nadruk ligt hier op de kerstperiode\, maar er is volop aandacht voor andere special events die de nodige aankleding behoeven.
URL:https://leisure360.be/evenement/christmasworld
CATEGORIES:Internationaal,Vakbeurs
ATTACH;FMTTYPE=image/jpeg:https://leisure360.be/wp-content/uploads/sites/2/2024/11/ID_80_CW_ALLGEMEIN_Banner_300x300px_en.jpg
END:VEVENT
BEGIN:VEVENT
DTSTART;TZID=Europe/Amsterdam:20241126T083000
DTEND;TZID=Europe/Amsterdam:20241128T190000
DTSTAMP:20260420T153802
CREATED:20240829T102320Z
LAST-MODIFIED:20241030T093411Z
UID:83212-1732609800-1732820400@leisure360.be
SUMMARY:LeisurUp
DESCRIPTION:LeisurUp is verbonden aan de grootste Europese vastgoedbeurs Mapic en zoomt in op leisure-gerelateerde ontwikkelingen in o.a. winkelgebieden en vastgoedprojecten. Naast een uitgebreide beursvloer zijn er ook volop kennisbijeenkomsten waar de relatie tussen leisure en retail wordt belicht.
URL:https://leisure360.be/evenement/leisurup-2
LOCATION:Cannes (Frankrijk)
CATEGORIES:Internationaal,Vakbeurs
ATTACH;FMTTYPE=image/png:https://leisure360.be/wp-content/uploads/sites/2/2023/08/leisurup-by-mapic-logo-370x125-1.png
END:VEVENT
BEGIN:VEVENT
DTSTART;TZID=Europe/Amsterdam:20241119T000000
DTEND;TZID=Europe/Amsterdam:20241121T235959
DTSTAMP:20260420T153802
CREATED:20240628T150639Z
LAST-MODIFIED:20241030T093436Z
UID:83028-1731974400-1732233599@leisure360.be
SUMMARY:IAAPA Expo Orlando
DESCRIPTION:De grootste en toonaangevende attractievakbeurs ter wereld vind jaarlijks plaats in Orlando (Florida – VS). Op de beursvloer vind je o.a. nieuwe attracties en in het kennisprogramma wordt je bijgepraat over de laatste trends. in de omgeving rond deze vakbeurs vindt je diverse mooie attractieparken en waterparken van o.a. Disney\, Universal en Six Flags. Combineer een trip dan ook vooral met een parkbezoek.
URL:https://leisure360.be/evenement/iaapa-expo-orlando-2
LOCATION:Orlando\, Florida (VS)\, Orlando\, florida\, Verenigde Staten
CATEGORIES:Internationaal,Vakbeurs
ATTACH;FMTTYPE=image/jpeg:https://leisure360.be/wp-content/uploads/sites/2/2024/06/iaapa-expo.jpg
END:VEVENT
BEGIN:VEVENT
DTSTART;TZID=Europe/Amsterdam:20241117T100000
DTEND;TZID=Europe/Amsterdam:20241120T180000
DTSTAMP:20260420T153802
CREATED:20240625T135041Z
LAST-MODIFIED:20241030T093456Z
UID:83007-1731837600-1732125600@leisure360.be
SUMMARY:Horeca Expo Gent
DESCRIPTION:Dat “overnight stay” een groeiende markt is\, bewijzen de cijfers van de meest recente Foodservice Alliance Jaarmonitor. \n\n\n\nHal 3 richtte zich tijdens Horeca Expo 2023 volledig op het segment HOTEL & HOSPITALITY. Alle hotelaspecten kwamen aan bod\, gaande van het slaap- en zitgedeelte\, over de badkamer en wellness/fitnessruimte tot de lobby\, de bar en het restaurant. En dit op het vlak van zowel meubilair\, apparatuur\, aankleding als accessoires. 
URL:https://leisure360.be/evenement/horeca-expo-gent
LOCATION:Flanders Expo\, Gent\, Gent\, België
CATEGORIES:Vakbeurs
ATTACH;FMTTYPE=image/jpeg:https://leisure360.be/wp-content/uploads/sites/2/2024/06/horeca-expo-gent.jpg
END:VEVENT
BEGIN:VEVENT
DTSTART;TZID=Europe/Amsterdam:20241113T110000
DTEND;TZID=Europe/Amsterdam:20241114T210000
DTSTAMP:20260420T153802
CREATED:20240704T123220Z
LAST-MODIFIED:20241030T093527Z
UID:83051-1731495600-1731618000@leisure360.be
SUMMARY:Festivak
DESCRIPTION:Vakbeurs voor de evenementenbranche. Op diverse stands presenteren leveranciers hun meerwaarde op het gebied van afvalverwerking\, decor\, standbouw\, licht\, geluid\, podia\, techniek\, verhuur en catering. Maar ook over cashless betalen\, online media\, databases\, mobile- & emailmarketing\, websites en apps. Tijdens het lezingenprogramma wordt je bijgespijkerd over de laatste trends en ontwikkelingen.
URL:https://leisure360.be/evenement/festivak-3
LOCATION:Brabanthallen\, 's Hertogenbosch
CATEGORIES:Vakbeurs
ATTACH;FMTTYPE=image/jpeg:https://leisure360.be/wp-content/uploads/sites/2/2023/08/festivak-2.jpg
END:VEVENT
BEGIN:VEVENT
DTSTART;TZID=Europe/Amsterdam:20241113T090000
DTEND;TZID=Europe/Amsterdam:20241115T180000
DTSTAMP:20260420T153802
CREATED:20240822T091922Z
LAST-MODIFIED:20241030T093543Z
UID:83190-1731488400-1731693600@leisure360.be
SUMMARY:International (boat) Charter Expo
DESCRIPTION:Een van de grootste b2b meetings op het gebied van verhuur van recreatiejachten. Dit is internationaal een enorm groeiend business-segment waarvan ook het waterrijke Nederland volop kan profiteren. Ruim 600 bedrijven presenteren hier hun zakelijke proposities. De organisatie is in handen van de Kroatische Yachtmaster Group
URL:https://leisure360.be/evenement/international-boat-charter-expo
CATEGORIES:Internationaal,Vakbeurs
ATTACH;FMTTYPE=image/jpeg:https://leisure360.be/wp-content/uploads/sites/2/2024/08/yacht-charter-event2.jpg
END:VEVENT
BEGIN:VEVENT
DTSTART;TZID=Europe/Amsterdam:20241112T100000
DTEND;TZID=Europe/Amsterdam:20241114T180000
DTSTAMP:20260420T153802
CREATED:20240625T133740Z
LAST-MODIFIED:20240704T123446Z
UID:83001-1731405600-1731607200@leisure360.be
SUMMARY:Recreatie Vakbeurs Hardenberg
DESCRIPTION:Op 12\, 13 & 14 november 2024 vindt de jaarlijkse Recreatie Vakbeurs plaats in Evenementenhal Hardenberg. Recreatie Vakbeurs is dé vakbeurs voor een toekomstbestendige recreatiebranche die jij niet mag missen. Een nieuw onderdeel is het Recreatie Dorp en de Best Practice Lounge. Kom inspiratie opdoen voor jouw recreatiebedrijf!
URL:https://leisure360.be/evenement/recreatie-vakbeurs-hardenberg-2
LOCATION:evenementenhal Hardenberg\, Hardenberg\, Nederland
CATEGORIES:Vakbeurs
ATTACH;FMTTYPE=image/png:https://leisure360.be/wp-content/uploads/sites/2/2024/07/Logo-Recreatie-Vakbeurs-positief.png
END:VEVENT
BEGIN:VEVENT
DTSTART;TZID=Europe/Amsterdam:20241007T100000
DTEND;TZID=Europe/Amsterdam:20241009T170000
DTSTAMP:20260420T153802
CREATED:20240609T110828Z
LAST-MODIFIED:20240625T132135Z
UID:82917-1728295200-1728493200@leisure360.be
SUMMARY:Horecabeurs BBB Maastricht
DESCRIPTION:Een bezoek aan de horecavakbeurs BBB Maastricht levert een belangrijke bijdrage aan het succes van jouw horecaonderneming. BBB Maastricht onderscheidt zich door het persoonlijke en internationale karakter\, de met zorg aangeklede beursvloer en het kwalitatief hoogwaardige programma.
URL:https://leisure360.be/evenement/horecabeurs-bbb-maastricht
LOCATION:Mecc Maastricht\, Maastricht
CATEGORIES:Vakbeurs
ATTACH;FMTTYPE=image/jpeg:https://leisure360.be/wp-content/uploads/sites/2/2023/08/bbb.jpg
END:VEVENT
BEGIN:VEVENT
DTSTART;TZID=Europe/Amsterdam:20240924T000000
DTEND;TZID=Europe/Amsterdam:20240926T235959
DTSTAMP:20260420T153802
CREATED:20240131T144348Z
LAST-MODIFIED:20240305T102244Z
UID:82350-1727136000-1727395199@leisure360.be
SUMMARY:IAAPA Expo Europe
DESCRIPTION:De grootste attractievakbeurs van Europa\, georganiseerd door IAAPA. De vakbeurs wordt elk jaar in een ander land gehouden. Dit jaar is Nederland aan de beurt. Het is een uitgelezen kans om kennis en inspiratie op te doen op het gebied van attracties en recreatieve beleving. Het kennisprogramma start al een dagje eerder.
URL:https://leisure360.be/evenement/iaapa-expo-europe-4
LOCATION:RAI Amsterdam\, Amsterdam
CATEGORIES:Congres,Vakbeurs
ATTACH;FMTTYPE=image/jpeg:https://leisure360.be/wp-content/uploads/sites/2/2023/08/iaapa-expo.jpg
END:VEVENT
BEGIN:VEVENT
DTSTART;TZID=Europe/Amsterdam:20240304T110000
DTEND;TZID=Europe/Amsterdam:20240305T190000
DTSTAMP:20260420T153802
CREATED:20240227T131603Z
LAST-MODIFIED:20240402T124005Z
UID:82440-1709550000-1709665200@leisure360.be
SUMMARY:Horecabeurs Goes
DESCRIPTION:Horecabeurs Goes is dé vakbeurs van Zuidwest-Nederland en Vlaanderen met een beursoppervlakte van 10.000 m2 en zo’n 200 exposanten gericht op de branches: horeca\, recreatie en toerisme.
URL:https://leisure360.be/evenement/horecabeurs-goes
CATEGORIES:Vakbeurs
ATTACH;FMTTYPE=image/jpeg:https://leisure360.be/wp-content/uploads/sites/2/2024/02/logo-horecabeurs-goes.jpg
END:VEVENT
BEGIN:VEVENT
DTSTART;TZID=Europe/Amsterdam:20240312T100000
DTEND;TZID=Europe/Amsterdam:20240313T170000
DTSTAMP:20260420T153802
CREATED:20231221T163016Z
LAST-MODIFIED:20231221T165541Z
UID:82158-1710237600-1710349200@leisure360.be
SUMMARY:Independent Hotel Show
DESCRIPTION:Een vakbeurs voor de hospitalitysector\, met de nadruk op hotels. Er zijn 200 exposanten en daarnaast wordt er een lezingenprogramma georganiseerd. De nadruk ligt sterk op innovatie in de hotelsector.
URL:https://leisure360.be/evenement/independent-hotel-show-3
LOCATION:RAI Amsterdam\, Amsterdam
CATEGORIES:Congres,Vakbeurs
ATTACH;FMTTYPE=image/jpeg:https://leisure360.be/wp-content/uploads/sites/2/2023/11/independent-hotel-show.jpg
END:VEVENT
BEGIN:VEVENT
DTSTART;TZID=Europe/Amsterdam:20240307T090000
DTEND;TZID=Europe/Amsterdam:20240307T160000
DTSTAMP:20260420T153802
CREATED:20240109T090516Z
LAST-MODIFIED:20240305T103438Z
UID:82220-1709802000-1709827200@leisure360.be
SUMMARY:Vakbeurs Sportacommodaties
DESCRIPTION:Sportieve recreatie wordt steeds vaker aangeboden door commerciële partijen; denk bijvoorbeeld aan de opkomst van de fitnesscentra – inmiddels de meest beoefende sport in Nederland. Dat is een enorme kentering in het Nederlandse sportlandschap dat van oudsher wordt gedomineerd door sportverenigingen. Ook op vakantieparken\, campings en hotels zijn sportvoorzieningen bijna een standaard onderdeel van de faciliteiten. Op de Vakbeurs Sportacocmmodaties vind je kennis en producten om je sportvoorziening veilig te realiseren; en volop inspiratie voor nieuwe activiteiten.
URL:https://leisure360.be/evenement/vakbeurs-sportacommodaties
LOCATION:Expo Houten\, Houten\, Nederland
CATEGORIES:Vakbeurs
ATTACH;FMTTYPE=image/jpeg:https://leisure360.be/wp-content/uploads/sites/2/2024/01/sportaccom.jpg
END:VEVENT
BEGIN:VEVENT
DTSTART;TZID=Europe/Amsterdam:20240124T080000
DTEND;TZID=Europe/Amsterdam:20240125T170000
DTSTAMP:20260420T153802
CREATED:20230628T062348Z
LAST-MODIFIED:20240111T082132Z
UID:81393-1706083200-1706202000@leisure360.be
SUMMARY:Recreatie Next Level
DESCRIPTION:Recreatie Vakbeurs organiseert een nieuw event voor de recreatiebranche: Recreatie Next Level. Dit is een extra toevoeging naast de Recreatie Vakbeurs in Hardenberg. Het tweedaagse B2B-event Recreatie Next Level vindt plaats in Evenementenhal Gorinchem\, centraal gelegen in de regio Zuid- en West-Nederland.
URL:https://leisure360.be/evenement/recreatie-next-level
LOCATION:move24
CATEGORIES:Congres,Vakbeurs
ATTACH;FMTTYPE=image/jpeg:https://leisure360.be/wp-content/uploads/sites/2/2023/06/big-Logo_RecreatieVakbeurs_Next-Level-1.jpg
END:VEVENT
BEGIN:VEVENT
DTSTART;TZID=Europe/Amsterdam:20240124T000000
DTEND;TZID=Europe/Amsterdam:20240128T235959
DTSTAMP:20260420T153802
CREATED:20231130T164929Z
LAST-MODIFIED:20231221T170217Z
UID:82090-1706054400-1706486399@leisure360.be
SUMMARY:Fitur
DESCRIPTION:Event voor professionals in toerisme\, vooral gericht op de Spaanstalige landen.
URL:https://leisure360.be/evenement/fitur
CATEGORIES:Congres,Vakbeurs
ATTACH;FMTTYPE=image/jpeg:https://leisure360.be/wp-content/uploads/sites/2/2023/11/fitur.jpg
END:VEVENT
BEGIN:VEVENT
DTSTART;TZID=Europe/Amsterdam:20231128T000000
DTEND;TZID=Europe/Amsterdam:20231201T235900
DTSTAMP:20260420T153802
CREATED:20230811T165314Z
LAST-MODIFIED:20230815T143458Z
UID:81626-1701129600-1701475140@leisure360.be
SUMMARY:Immersive Tech Week
DESCRIPTION:Dit event is ooit begonnen als de VR Days. Maar de techniek schrijdt voort en er worden steeds meer technologieën ontwikkeld die bijdragen aan een nieuwe belevingswaarde of praktische ondersteuning. Ook AR\, mixed reality of de cyberspace komen ruimschoots aan bod.
URL:https://leisure360.be/evenement/immersive-tech-week
LOCATION:Rotterdam
CATEGORIES:Congres,Vakbeurs
ATTACH;FMTTYPE=image/jpeg:https://leisure360.be/wp-content/uploads/sites/2/2023/08/immersive-tech-week.jpg
END:VEVENT
BEGIN:VEVENT
DTSTART;TZID=Europe/Amsterdam:20231128T000000
DTEND;TZID=Europe/Amsterdam:20231130T235959
DTSTAMP:20260420T153802
CREATED:20230811T143934Z
LAST-MODIFIED:20231002T073705Z
UID:81624-1701129600-1701388799@leisure360.be
SUMMARY:LeisurUp
DESCRIPTION:LeisureUp is de toonaangevende b2b bijeenkomst waar retail en leisure elkaar ontmoeten. De beurs vindt tegelijkertijd plaats met de internationale vastgoedbeurs Mapic. Er is volop inspiratie te vinden voor leisure\, retail en foodconcepten.
URL:https://leisure360.be/evenement/leisurup
LOCATION:Cannes (Frankrijk)
CATEGORIES:Vakbeurs
ATTACH;FMTTYPE=image/png:https://leisure360.be/wp-content/uploads/sites/2/2023/08/leisurup-by-mapic-logo-370x125-1.png
END:VEVENT
BEGIN:VEVENT
DTSTART;TZID=Europe/Amsterdam:20231122T100000
DTEND;TZID=Europe/Amsterdam:20231123T170000
DTSTAMP:20260420T153802
CREATED:20230713T124045Z
LAST-MODIFIED:20230714T092702Z
UID:81487-1700647200-1700758800@leisure360.be
SUMMARY:Festivak
DESCRIPTION:Vakbeurs voor iedereen die met grootschalige evenementen en festivals te maken heeft. Naast een zeer uitgebreide beursvloer worden er ook diverse interessante lezingen gegeven. De beurs wordt afwisselend\, om het jaar\, in Nederland en België georganiseerd. Dit jaar is België aan de beurt. Maar Nederlandse vakbezoekers zijn natuurlijk ook meer dan welkom.
URL:https://leisure360.be/evenement/festivak-2
LOCATION:Nationaal Fietscongres
CATEGORIES:Vakbeurs
ATTACH;FMTTYPE=image/jpeg:https://leisure360.be/wp-content/uploads/sites/2/2023/07/festivak-1.jpg
END:VEVENT
BEGIN:VEVENT
DTSTART;TZID=Europe/Brussels:20231119T100000
DTEND;TZID=Europe/Brussels:20231122T180000
DTSTAMP:20260420T153802
CREATED:20230816T101315Z
LAST-MODIFIED:20230816T101316Z
UID:81677-1700388000-1700676000@leisure360.be
SUMMARY:Horeca Expo
DESCRIPTION:Horeca Expo is al 33 jaar de grootste totaalbeurs voor de Belgische horecasector en grootkeukens.Met een kwalitatief\, innovatief en authentiek totaalaanbod staat de top binnen elk segment in de spots.Naast het ruime exposantenaanbod\, biedt de beurs ook een uitgebreid randprogramma aan met workshops\, culinaire wedstrijden\, seminaries en kookdemo’s.
URL:https://leisure360.be/evenement/horeca-expo
LOCATION:Flanders Expo\, Gent\, Gent\, België
CATEGORIES:Vakbeurs
ATTACH;FMTTYPE=image/png:https://leisure360.be/wp-content/uploads/sites/2/2023/08/horeca-expo-gent.png
END:VEVENT
BEGIN:VEVENT
DTSTART;TZID=Europe/Amsterdam:20231115T090000
DTEND;TZID=Europe/Amsterdam:20231116T170000
DTSTAMP:20260420T153802
CREATED:20230815T142848Z
LAST-MODIFIED:20230816T095951Z
UID:81650-1700038800-1700154000@leisure360.be
SUMMARY:Family Attraction Expo & More...
DESCRIPTION:In Birmingham worden enkele vakbeurzen in de recreatiesector tegelijkertijd georganiseerd. De Family Attraction Expo richt zich op Family Entertainment Centra en kleinschaliger attracties (grote pretparken gaan eerder naar de IAAPA Expo); Holiday Park & Resort richt zich op campings en vakantieparken; Farm Business Innovation is interessant voor recreatie en toerisme op het platteland; en dan is er nog de Leisure F&B expo voor foodservice in de recreatiesector.
URL:https://leisure360.be/evenement/family-attraction-expo-more
LOCATION:NEC Birmingham\, Birmingham\, Verenigd Koninkrijk
CATEGORIES:Internationaal,Vakbeurs
ATTACH;FMTTYPE=image/jpeg:https://leisure360.be/wp-content/uploads/sites/2/2023/08/Family-Attraction-Expo.jpg
END:VEVENT
BEGIN:VEVENT
DTSTART;TZID=Europe/Amsterdam:20231114T100000
DTEND;TZID=Europe/Amsterdam:20231117T180000
DTSTAMP:20260420T153802
CREATED:20230815T144426Z
LAST-MODIFIED:20230831T155757Z
UID:81653-1699956000-1700244000@leisure360.be
SUMMARY:IAAPA Expo
DESCRIPTION:De grootste vakbeurs ter wereld voor de attractiesector\, georganiseerd door IAAPA in Orlando\, Florida. Naast een zeer uitgebreide expo zijn er ook diverse interessante lezingen en presentaties over trends en ontwikkelingen in de attractiesector. De beurs richt zich niet alleen op attractieparken\, maar ook op waterparken\,  kermissen\, visitor centers\, fec’s\, gaming en indoor entertainment. Het kennisprogramma begint al een dagje eerder.
URL:https://leisure360.be/evenement/iaapa-expo-2
LOCATION:Kans op verbranding steeds groter door toenemende zonnekracht
CATEGORIES:Internationaal,Vakbeurs
ATTACH;FMTTYPE=image/jpeg:https://leisure360.be/wp-content/uploads/sites/2/2023/08/iaapa-expo.jpg
END:VEVENT
BEGIN:VEVENT
DTSTART;TZID=Europe/Amsterdam:20231114T100000
DTEND;TZID=Europe/Amsterdam:20231116T180000
DTSTAMP:20260420T153802
CREATED:20230421T170524Z
LAST-MODIFIED:20230616T121032Z
UID:80059-1699956000-1700157600@leisure360.be
SUMMARY:Recreatie Vakbeurs Hardenberg
DESCRIPTION:Dé vakbeurs voor een toekomstbestendige recreatiebranche \n\n\n\nOp 14\, 15 en 16 november 2023 vindt de jaarlijkse Recreatie Vakbeurs plaats. Ontmoet meer dan 300 vooraanstaande bedrijven uit de recreatiesector en raak in één dag(deel) op de hoogte van de laatste trends en ontwikkelingen uit de sector!
URL:https://leisure360.be/evenement/recreartie-vakbeurs-hardenberg
LOCATION:evenementenhal Hardenberg\, Hardenberg\, Nederland
CATEGORIES:Vakbeurs
ATTACH;FMTTYPE=:
END:VEVENT
BEGIN:VEVENT
DTSTART;TZID=Europe/Amsterdam:20231024T100000
DTEND;TZID=Europe/Amsterdam:20231027T180000
DTSTAMP:20260420T153802
CREATED:20230815T125843Z
LAST-MODIFIED:20230816T100159Z
UID:81642-1698141600-1698429600@leisure360.be
SUMMARY:Aquanale (zwembaden en sauna)
DESCRIPTION:Internationale vakbeurs voor zwembaden en sauna’s
URL:https://leisure360.be/evenement/aquanale-zwembaden-en-sauna
LOCATION:ING: Verblijfsrecreatie gaat eventuele BTW verhoging waarschijnlijk doorberekenen
CATEGORIES:Vakbeurs
ATTACH;FMTTYPE=image/jpeg:https://leisure360.be/wp-content/uploads/sites/2/2023/08/aquanale_logo_235x235.jpg
END:VEVENT
BEGIN:VEVENT
DTSTART;TZID=Europe/Amsterdam:20231024T100000
DTEND;TZID=Europe/Amsterdam:20231027T180000
DTSTAMP:20260420T153802
CREATED:20230815T124338Z
LAST-MODIFIED:20230816T100226Z
UID:81640-1698141600-1698429600@leisure360.be
SUMMARY:FSB (sport en recreatie)
DESCRIPTION:Internationale vakbeurs voor recreatie- en sportfaciliteiten
URL:https://leisure360.be/evenement/fsb-sport-en-recreatie
LOCATION:ING: Verblijfsrecreatie gaat eventuele BTW verhoging waarschijnlijk doorberekenen
CATEGORIES:Vakbeurs
ATTACH;FMTTYPE=image/png:https://leisure360.be/wp-content/uploads/sites/2/2023/08/fsb_logo_500x500.png
END:VEVENT
BEGIN:VEVENT
DTSTART;TZID=Europe/Amsterdam:20231021T000000
DTEND;TZID=Europe/Amsterdam:20231029T235959
DTSTAMP:20260420T153802
CREATED:20230810T095130Z
LAST-MODIFIED:20230816T100719Z
UID:81619-1697846400-1698623999@leisure360.be
SUMMARY:Dutch Design Week
DESCRIPTION:De Dutch Design week biedt een overzicht van nieuwe producten en concepten. Het event is niet specifiek gericht op de recreatiesector\, maar kan wel veel inspiratie bieden voor nieuwe ontwikkelingen. De eerste Tiny offices op vakantieparken werden bijvoorbeeld ook als concept getoond op de DDW. Bezoekers hebben de mogelijkheid om nieuwe concepten te bekijken en in gesprek te gaan met de ontwikkelaars. Er zijn ook diverse lezingen die een link hebben met ‘ontwerpen voor de toekomst.’
URL:https://leisure360.be/evenement/dutch-design-week-2
LOCATION:Eindhoven\, Eindhoven\, Nederland
CATEGORIES:Vakbeurs
ATTACH;FMTTYPE=image/jpeg:https://leisure360.be/wp-content/uploads/sites/2/2023/08/logo-ddw.jpg
END:VEVENT
END:VCALENDAR