BEGIN:VCALENDAR
VERSION:2.0
PRODID:-//Leisure360.be - ECPv6.6.3//NONSGML v1.0//EN
CALSCALE:GREGORIAN
METHOD:PUBLISH
X-ORIGINAL-URL:https://leisure360.be
X-WR-CALDESC:Evenementen voor Leisure360.be
REFRESH-INTERVAL;VALUE=DURATION:PT1H
X-Robots-Tag:noindex
X-PUBLISHED-TTL:PT1H
BEGIN:VTIMEZONE
TZID:Europe/Amsterdam
BEGIN:DAYLIGHT
TZOFFSETFROM:+0100
TZOFFSETTO:+0200
TZNAME:CEST
DTSTART:20220327T010000
END:DAYLIGHT
BEGIN:STANDARD
TZOFFSETFROM:+0200
TZOFFSETTO:+0100
TZNAME:CET
DTSTART:20221030T010000
END:STANDARD
BEGIN:DAYLIGHT
TZOFFSETFROM:+0100
TZOFFSETTO:+0200
TZNAME:CEST
DTSTART:20230326T010000
END:DAYLIGHT
BEGIN:STANDARD
TZOFFSETFROM:+0200
TZOFFSETTO:+0100
TZNAME:CET
DTSTART:20231029T010000
END:STANDARD
END:VTIMEZONE
BEGIN:VEVENT
DTSTART;TZID=Europe/Amsterdam:20230613T100000
DTEND;TZID=Europe/Amsterdam:20230615T190000
DTSTAMP:20260420T200856
CREATED:20230529T140712Z
LAST-MODIFIED:20230529T140712Z
UID:80486-1686650400-1686855600@leisure360.be
SUMMARY:Provada (vastgoedbeurs)
DESCRIPTION:Vastgoedbeurs Provada in de Amsterdamse RAI organiseert ook enkele bijeenkomsten voor de sector leisure. enkele voorbeelden: De NVM presenteert de jaarcijfers over de markt van van vakantiewoningen en Horwath geeft een presentatie over trends in de hotelsector. zie ook: www.pretwerk.nl/productnieuws/ook-leisurevastgoed-heeft-een-plekje-op-de-vastgoedbeurs-provada/80373
URL:https://leisure360.be/evenement/provada-vastgoedbeurs
LOCATION:RAI Amsterdam\, Amsterdam
CATEGORIES:Vakbeurs
ATTACH;FMTTYPE=:
END:VEVENT
BEGIN:VEVENT
DTSTART;TZID=Europe/Amsterdam:20230612T000000
DTEND;TZID=Europe/Amsterdam:20230613T235959
DTSTAMP:20260420T200856
CREATED:20230606T140706Z
LAST-MODIFIED:20230606T140706Z
UID:81357-1686528000-1686700799@leisure360.be
SUMMARY:Seli Show (indoor entertainment)
DESCRIPTION:De Franse branchevereniging voor indoor recreatie (Space) organiseert een middelgrote beurs voor Indoor Entertainment in Lyon. Er is o.a. een bescheiden beursvloer (62 stadhouders) en er worden 6 lezingen georganiseerd (in het Frans)
URL:https://leisure360.be/evenement/seli-show-indoor-entertainment
CATEGORIES:Vakbeurs
ATTACH;FMTTYPE=:
END:VEVENT
BEGIN:VEVENT
DTSTART;TZID=Europe/Amsterdam:20230329T100000
DTEND;TZID=Europe/Amsterdam:20230330T170000
DTSTAMP:20260420T200856
CREATED:20230125T145249Z
LAST-MODIFIED:20230125T145249Z
UID:78774-1680084000-1680195600@leisure360.be
SUMMARY:Webwinkel Vakdagen
DESCRIPTION:Wie online zaken doet heeft baat bij een bezoek aan de Webwinkel Vakdagen. Met 250 standhouders en ruim 200 lezingen is er een breed aanbod voor al je online vraagstukken.
URL:https://leisure360.be/evenement/webwinkel-vakdagen
LOCATION:Jaarbeurs Utrecht
CATEGORIES:Vakbeurs
ATTACH;FMTTYPE=:
END:VEVENT
BEGIN:VEVENT
DTSTART;TZID=Europe/Amsterdam:20230314T100000
DTEND;TZID=Europe/Amsterdam:20230315T160000
DTSTAMP:20260420T200856
CREATED:20230215T111839Z
LAST-MODIFIED:20230215T111839Z
UID:79094-1678788000-1678896000@leisure360.be
SUMMARY:Independent Hotel Show
DESCRIPTION:De IHS presenteert een ruim aanbod van 200 innovatieve producten en diensten gericht op alle facetten binnen de hotel industrie. In het inspirerende lezingenprogramma delen deskundigen hun expertise en tijdens het event zijn er verschillende netwerkmogelijkheden.
URL:https://leisure360.be/evenement/independent-hotel-show
LOCATION:RAI Amsterdam\, Amsterdam
CATEGORIES:Congres,Vakbeurs
ATTACH;FMTTYPE=:
END:VEVENT
BEGIN:VEVENT
DTSTART;TZID=Europe/Amsterdam:20230314T080000
DTEND;TZID=Europe/Amsterdam:20230316T170000
DTSTAMP:20260420T200856
CREATED:20221220T152644Z
LAST-MODIFIED:20221220T152644Z
UID:78279-1678780800-1678986000@leisure360.be
SUMMARY:Rimini Amusement Show
DESCRIPTION:Rimini Amusement Show\, scheduled 14-16 March 2023​ at Rimini Expo Centre (ITALY)\, is the reference b2b show for the operators of the world of amusements.
URL:https://leisure360.be/evenement/rimini-amusment-show
LOCATION:Rimini\, Italië
CATEGORIES:Internationaal,Vakbeurs
ATTACH;FMTTYPE=:
END:VEVENT
BEGIN:VEVENT
DTSTART;TZID=Europe/Amsterdam:20230309T103000
DTEND;TZID=Europe/Amsterdam:20230309T170000
DTSTAMP:20260420T200856
CREATED:20221230T130616Z
LAST-MODIFIED:20221230T130616Z
UID:78410-1678357800-1678381200@leisure360.be
SUMMARY:Event Summit
DESCRIPTION:Een bijzondere dag voor  eventprofessionals. Dit jaar is de 15e editie en daar wil de organisatie wat moois van maken.
URL:https://leisure360.be/evenement/event-summit-2
LOCATION:Jaarbeurs Utrecht
CATEGORIES:Vakbeurs
ATTACH;FMTTYPE=:
END:VEVENT
BEGIN:VEVENT
DTSTART;TZID=Europe/Amsterdam:20230309T090000
DTEND;TZID=Europe/Amsterdam:20230309T160000
DTSTAMP:20260420T200856
CREATED:20221230T133602Z
LAST-MODIFIED:20221230T133602Z
UID:78420-1678352400-1678377600@leisure360.be
SUMMARY:Vakbeurs Sportaccommodaties
DESCRIPTION:Dit is de enige beurs in Nederland die “sportaccommodaties” centraal plaatst. Met een goede reden: het is nou eenmaal een complex onderwerp. Daarom steken we in Expo Houten ieder jaar de koppen bij elkaar. U vindt hier alles wat u als professional nodig hebt: van financiering en ontwerp tot beheer en onderhoud.
URL:https://leisure360.be/evenement/vakbeurs-sportaccommodaties-2
LOCATION:Expo Houten\, Houten\, Nederland
CATEGORIES:Vakbeurs
ATTACH;FMTTYPE=:
END:VEVENT
BEGIN:VEVENT
DTSTART;TZID=Europe/Amsterdam:20230307T000000
DTEND;TZID=Europe/Amsterdam:20230309T235959
DTSTAMP:20260420T200856
CREATED:20230131T200559Z
LAST-MODIFIED:20230131T200559Z
UID:78880-1678147200-1678406399@leisure360.be
SUMMARY:ITB Berlin
DESCRIPTION:Internationale Travel Trade Show\, waar ook veel Nederlandse vertegenwoordigers aanwezig zijn. De beurs is vooral bedoeld om te netwerken.
URL:https://leisure360.be/evenement/itb-berlin
LOCATION:Messe Berlin\, Berlijn\, Duitsland
CATEGORIES:Congres,Vakbeurs
ATTACH;FMTTYPE=:
END:VEVENT
BEGIN:VEVENT
DTSTART;TZID=Europe/Amsterdam:20230201T090000
DTEND;TZID=Europe/Amsterdam:20230205T180000
DTSTAMP:20260420T200856
CREATED:20221230T130020Z
LAST-MODIFIED:20221230T130020Z
UID:78406-1675242000-1675620000@leisure360.be
SUMMARY:Spielwarenmesse
DESCRIPTION:Een beurs voor de brede speelindustrie. Naast het traditionele speelgoed is er ook veel aandacht voor games en nieuwe speelvormen\, die ook relevant (kunnen) zijn voor recreatiebedrijven.
URL:https://leisure360.be/evenement/spielwarenmesse
LOCATION:Messezentrum Nürnberg\, Nürnberg\, Duitsland
CATEGORIES:Vakbeurs
ATTACH;FMTTYPE=:
END:VEVENT
BEGIN:VEVENT
DTSTART;TZID=Europe/Amsterdam:20230118T080000
DTEND;TZID=Europe/Amsterdam:20230122T170000
DTSTAMP:20260420T200856
CREATED:20221222T123412Z
LAST-MODIFIED:20221222T123412Z
UID:78295-1674028800-1674406800@leisure360.be
SUMMARY:Fitur - Tourism Trade Fair
DESCRIPTION:Vakbeurs voor toerismeprofessionals\, vooral gericht op de Spaanstalige markten. Een bijzonder onderdeel is FiturTechy (18 – 20 januari)\, waarin een beeld wordt geschets van de toerismesector in de toekomst. (zie ook de foto van de futuristische hotelkamer)
URL:https://leisure360.be/evenement/fitur-tourism-trade-fair
LOCATION:Madrid\, Spanje
CATEGORIES:Vakbeurs
ATTACH;FMTTYPE=:
END:VEVENT
BEGIN:VEVENT
DTSTART;TZID=Europe/Amsterdam:20230110T100000
DTEND;TZID=Europe/Amsterdam:20230112T170000
DTSTAMP:20260420T200856
CREATED:20221229T150652Z
LAST-MODIFIED:20221229T150652Z
UID:78380-1673344800-1673542800@leisure360.be
SUMMARY:Entertainment Attractions & Gaming Expo\, London
DESCRIPTION:The Entertainment\, Attractions & Gaming International Expo (EAG Expo 2023)\, is the leisure industry’s leading coin-operated amusements show and a great opportunity for visitors to keep up to date with what’s new in coin-op visitor attractions\, entertainment and gaming.
URL:https://leisure360.be/evenement/entertainment-attractions-gaming-expo-london
LOCATION:Excel\, Londen\, Verenigd Koninkrijk
CATEGORIES:Internationaal,Vakbeurs
ATTACH;FMTTYPE=:
END:VEVENT
BEGIN:VEVENT
DTSTART;TZID=Europe/Amsterdam:20230109T100000
DTEND;TZID=Europe/Amsterdam:20230112T180000
DTSTAMP:20260420T200856
CREATED:20221126T094138Z
LAST-MODIFIED:20221126T094138Z
UID:78021-1673258400-1673546400@leisure360.be
SUMMARY:Horecava
DESCRIPTION:Horecava is al meer dan 65 jaar dé horecabeurs waar vakmensen in de wereld van eten\, drinken en buitenshuis slapen elkaar kunnen ontmoeten.
URL:https://leisure360.be/evenement/horecava
LOCATION:RAI\, Amsterdam
CATEGORIES:Vakbeurs
ATTACH;FMTTYPE=:
END:VEVENT
BEGIN:VEVENT
DTSTART;TZID=Europe/Amsterdam:20221129T000000
DTEND;TZID=Europe/Amsterdam:20221201T235959
DTSTAMP:20260420T200856
CREATED:20220628T144344Z
LAST-MODIFIED:20220628T144344Z
UID:75962-1669680000-1669939199@leisure360.be
SUMMARY:LeisurUp by Mapic
DESCRIPTION:Internationale vakbeurs voor leisurebedrijven. (turning location-based attractions into lifestyle destinations including retail sites\, urban areas\, transport hubs and travel destinations) Het event is gekoppeld aan Mapic\, de toonaangevende internationale beurs voor retailprofessionals.
URL:https://leisure360.be/evenement/leisurup-by-mapic-2
LOCATION:Cannes (Frankrijk)
CATEGORIES:Internationaal,Vakbeurs
ATTACH;FMTTYPE=:
END:VEVENT
BEGIN:VEVENT
DTSTART;TZID=Europe/Amsterdam:20221115T100000
DTEND;TZID=Europe/Amsterdam:20221117T180000
DTSTAMP:20260420T200857
CREATED:20220627T115122Z
LAST-MODIFIED:20220627T115122Z
UID:75937-1668506400-1668708000@leisure360.be
SUMMARY:Recreatie Vakbeurs Hardenberg
DESCRIPTION:De grootste vakbeurs voor de recreatiesector in Nederland. Je ziet de nieuwste fysieke producten\, diensten en innovaties van ruim 260 exposanten uit de complete sector (14 verschillende branches) binnen de recreatie. Je ontmoet (bestaande) relaties en ontdekt nieuwe leveranciers. 
URL:https://leisure360.be/evenement/recreatie-vakbeurs-hardenberg
LOCATION:evenementenhal Hardenberg\, Hardenberg\, Nederland
CATEGORIES:Vakbeurs
ATTACH;FMTTYPE=:
END:VEVENT
BEGIN:VEVENT
DTSTART;TZID=Europe/Amsterdam:20221114T000000
DTEND;TZID=Europe/Amsterdam:20221117T235959
DTSTAMP:20260420T200857
CREATED:20220629T183040Z
LAST-MODIFIED:20220629T183040Z
UID:75994-1668384000-1668729599@leisure360.be
SUMMARY:IAAPA Expo Orlando
DESCRIPTION:Grootste attractie-vakbeurs ter wereld. Naast de vakbeurs zijn er ook diverse kennisbijeenkomsten en is het mogelijk om (begeleid) attracties in de regio te bezoeken.
URL:https://leisure360.be/evenement/iaapa-expo-orlando
LOCATION:Orlando\, Florida (VS)\, Orlando\, florida\, Verenigde Staten
CATEGORIES:Vakbeurs
ATTACH;FMTTYPE=:
END:VEVENT
BEGIN:VEVENT
DTSTART;TZID=Europe/Amsterdam:20221109T110000
DTEND;TZID=Europe/Amsterdam:20221110T173000
DTSTAMP:20260420T200857
CREATED:20220630T115004Z
LAST-MODIFIED:20220630T115004Z
UID:76016-1667991600-1668101400@leisure360.be
SUMMARY:Festivak
DESCRIPTION:Festivak biedt een compleet overzicht van aanbieders van producten of diensten die organisatoren ondersteunen bij het verwezenlijken van hun evenement. Verder biedt Festivak een inhoudelijk programma met actuele thema’s en cases waarbij organisatoren geïnspireerd en gemotiveerd worden.
URL:https://leisure360.be/evenement/festivak
LOCATION:Brabanthallen\, 's Hertogenbosch
CATEGORIES:Vakbeurs
ATTACH;FMTTYPE=:
END:VEVENT
BEGIN:VEVENT
DTSTART;TZID=Europe/Amsterdam:20221102T100000
DTEND;TZID=Europe/Amsterdam:20221103T160000
DTSTAMP:20260420T200857
CREATED:20220701T202138Z
LAST-MODIFIED:20220701T202138Z
UID:76049-1667383200-1667491200@leisure360.be
SUMMARY:Vakbeurs (UK) voor diverse leisure marktsegmenten
DESCRIPTION:Het NEC eventcenter in Birmingham (UK) staat op 2 en 3 november volop in het teken van leisure. Er worden maar liefst zes vakbeurzen\, voor verschillende marktsegmenten tegelijk georganiseerd: \n\n\n\nThe Holiday Park & Resort Innovation; The Farm Business Innovation; Family Attraction Expo; Country House Business Innovation; Leisure Food & Beverage Expo; Leisure Toy & Gift Fair.
URL:https://leisure360.be/evenement/vakbeurs-uk-voor-diverse-leisure-marktsegmenten
LOCATION:NEC Birmingham\, Birmingham\, Verenigd Koninkrijk
CATEGORIES:Internationaal,Vakbeurs
ATTACH;FMTTYPE=:
END:VEVENT
BEGIN:VEVENT
DTSTART;TZID=Europe/Amsterdam:20221011T100000
DTEND;TZID=Europe/Amsterdam:20221013T170000
DTSTAMP:20260420T200857
CREATED:20221006T100916Z
LAST-MODIFIED:20221006T100916Z
UID:77268-1665482400-1665680400@leisure360.be
SUMMARY:Vakbeurs Energie
DESCRIPTION:Vakbeurs Energie is het grootste zakelijke evenement in het kader van duurzame opwekking en besparing van energie in Nederland. 3 dagen innovatie\, kennisdeling en business.
URL:https://leisure360.be/evenement/vakbeurs-energie
LOCATION:Brabanthallen\, 's Hertogenbosch
CATEGORIES:Vakbeurs
ATTACH;FMTTYPE=:
END:VEVENT
BEGIN:VEVENT
DTSTART;TZID=Europe/Amsterdam:20221011T000000
DTEND;TZID=Europe/Amsterdam:20221013T235959
DTSTAMP:20260420T200857
CREATED:20220701T204428Z
LAST-MODIFIED:20220701T204428Z
UID:76061-1665446400-1665705599@leisure360.be
SUMMARY:Salon Atlantica
DESCRIPTION:Internationale vakbeurs in het Franse La Rochelle\, gericht op recreatie en toerisme in de buitenlucht. (Hotellerie de plein air)
URL:https://leisure360.be/evenement/salon-atlantica
LOCATION:La Rochelle\, La Rochelle\, Frankrijk
CATEGORIES:Vakbeurs
ATTACH;FMTTYPE=:
END:VEVENT
BEGIN:VEVENT
DTSTART;TZID=Europe/Amsterdam:20221010T000000
DTEND;TZID=Europe/Amsterdam:20221012T235959
DTSTAMP:20260420T200857
CREATED:20220725T151309Z
LAST-MODIFIED:20220725T151309Z
UID:76410-1665360000-1665619199@leisure360.be
SUMMARY:BBB Maastricht - horecavakbeurs
DESCRIPTION:BBB Maastricht is dé plek waar de horecaprofessional uit Zuidoost Nederland en Belgisch Limburg aanwezig is. BBB Maastricht is een kwaliteitsbeurs en biedt naast een hoop netwerkmogelijkheden en gezelligheid\, een bomvol programma aan proeverijen\, kook battles\, masterclasses en meer.
URL:https://leisure360.be/evenement/bbb-maastricht-horecavakbeurs
LOCATION:MECC Maastricht\, Maastricht
CATEGORIES:Vakbeurs
ATTACH;FMTTYPE=:
END:VEVENT
BEGIN:VEVENT
DTSTART;TZID=Europe/Amsterdam:20221005T090000
DTEND;TZID=Europe/Amsterdam:20221006T170000
DTSTAMP:20260420T200857
CREATED:20220628T142625Z
LAST-MODIFIED:20220628T142625Z
UID:75958-1664960400-1665075600@leisure360.be
SUMMARY:Vakbeurs Openbare Ruimte
DESCRIPTION:Alles over inrichting en beheer van duurzame en circulaire openbare ruimte.
URL:https://leisure360.be/evenement/vakbeurs-openbare-ruimte-3
LOCATION:Jaarbeurs Utrecht
CATEGORIES:Vakbeurs
ATTACH;FMTTYPE=:
END:VEVENT
BEGIN:VEVENT
DTSTART;TZID=Europe/Amsterdam:20220919T110000
DTEND;TZID=Europe/Amsterdam:20220921T180000
DTSTAMP:20260420T200857
CREATED:20220907T155812Z
LAST-MODIFIED:20220907T155812Z
UID:76871-1663585200-1663783200@leisure360.be
SUMMARY:Gastvrij Rotterdam
DESCRIPTION:Gastvrij Rotterdam is dé horecavakbeurs voor ambitieuze horecaprofessionals en heeft zich tijdens vorige edities bewezen als hoogstaand gastronomisch platform voor de horecabranche. Het toonaangevende gastronomische platform voor de professionele horeca biedt bezoekers een overzichtelijk beeld van de laatste trends en ontwikkelingen in de sector en biedt daarnaast een compleet aanbod van food en non-food producten en diensten. Beursbezoekers kunnen genieten van 500 exposanten\, diverse workshops\, demonstraties\, masterclasses\, wedstrijden en proeverijen met sterrenchefs\, meesterkoks\, Masters of Wine en topgastronomen.
URL:https://leisure360.be/evenement/gastvrij-rotterdam
LOCATION:ahoy Rotterdam\, Rotterdam
CATEGORIES:Vakbeurs
ATTACH;FMTTYPE=:
END:VEVENT
BEGIN:VEVENT
DTSTART;TZID=Europe/Amsterdam:20220915T000000
DTEND;TZID=Europe/Amsterdam:20220917T235959
DTSTAMP:20260420T200857
CREATED:20220701T205140Z
LAST-MODIFIED:20220701T205140Z
UID:76066-1663200000-1663459199@leisure360.be
SUMMARY:The Glamping Show
DESCRIPTION:Grote internationale vakbeurs voor glampingconcepten op een groot terrein in het Britse Stoneleigh. Je vindt hier niet alleen accommodaties\, maar ook alle onderdelen en kennis om je glampingconcept succesvol in te vullen
URL:https://leisure360.be/evenement/the-glamping-show-2
LOCATION:Stoneleigh\, Stoneleigh\, Verenigd Koninkrijk
CATEGORIES:Internationaal,Vakbeurs
ATTACH;FMTTYPE=:
END:VEVENT
BEGIN:VEVENT
DTSTART;TZID=Europe/Amsterdam:20220913T000000
DTEND;TZID=Europe/Amsterdam:20220915T235959
DTSTAMP:20260420T200857
CREATED:20220628T150344Z
LAST-MODIFIED:20220628T150344Z
UID:75966-1663027200-1663286399@leisure360.be
SUMMARY:IAAPA Expo Europe
DESCRIPTION:De grootste attractievakbeurs in Europa. Naast de Expo zijn er ook diverse interessante lezingen. Het congresprogramma start op 12 september. De IAAPA Expo Europe heeft in de loop der jaren een steeds bredere scope gekregen. Naast de traditionele attractieparken\, kermissen en waterparken worden nu ook ook de Family Entertainment Centra\, indoor attracties\, retailtainment\, vakantieparken\, bezoekerscentra e.v.a. tot de doelgroep van de beurs gerekend.
URL:https://leisure360.be/evenement/iaapa-expo-europe-2
LOCATION:London (UK)
CATEGORIES:Congres,Internationaal,Vakbeurs
ATTACH;FMTTYPE=:
END:VEVENT
BEGIN:VEVENT
DTSTART;TZID=Europe/Amsterdam:20220519T120000
DTEND;TZID=Europe/Amsterdam:20220519T170000
DTSTAMP:20260420T200857
CREATED:20220228T150612Z
LAST-MODIFIED:20220228T150612Z
UID:74263-1652961600-1652979600@leisure360.be
SUMMARY:City Breaks Press Event
DESCRIPTION:Het CITY BREAKS PRESS EVENT is een unieke gelegenheid om uw stad\, hotelketen\, vervoersmaatschappij of reisproduct bij (reis)journalisten en bloggers te promoten.
URL:https://leisure360.be/evenement/city-breaks-press-event
LOCATION:Den Haag
CATEGORIES:Vakbeurs
ATTACH;FMTTYPE=:
END:VEVENT
BEGIN:VEVENT
DTSTART;TZID=Europe/Amsterdam:20220517T090000
DTEND;TZID=Europe/Amsterdam:20220519T170000
DTSTAMP:20260420T200857
CREATED:20220330T153353Z
LAST-MODIFIED:20220330T153353Z
UID:74753-1652778000-1652979600@leisure360.be
SUMMARY:Monumentenbeurs
DESCRIPTION:MONUMENT richt zich specifiek op onderhoud\, herbestemming\, restauratie en verduurzaming van monumenten. Hier ontmoeten aanbieders van producten en diensten voor de gebouwd erfgoedsector op gepaste afstand professionals en eigenaren op zoek naar innovatieve producten\, kennis en informatie. \n\n\n\nMONUMENT 2022 vindt gelijktijdig plaats met vakbeurzen RENOVATIE. De vakbeurs RENOVATIE gaat over sneller\, efficiënter en omgevingsvriendelijker renoveren.
URL:https://leisure360.be/evenement/monumentenbeurs
LOCATION:Brabanthallen\, 's Hertogenbosch
CATEGORIES:Vakbeurs
ATTACH;FMTTYPE=:
END:VEVENT
BEGIN:VEVENT
DTSTART;TZID=Europe/Amsterdam:20220510T080000
DTEND;TZID=Europe/Amsterdam:20220513T170000
DTSTAMP:20260420T200857
CREATED:20220228T153204Z
LAST-MODIFIED:20220228T153204Z
UID:74270-1652169600-1652461200@leisure360.be
SUMMARY:Integrated Systems
DESCRIPTION:Techniekbeurs voor Audio-visuele toepassingen.
URL:https://leisure360.be/evenement/integrated-systems
LOCATION:Barcelona
CATEGORIES:Internationaal,Vakbeurs
ATTACH;FMTTYPE=:
END:VEVENT
BEGIN:VEVENT
DTSTART;TZID=Europe/Amsterdam:20220426T090000
DTEND;TZID=Europe/Amsterdam:20220426T170000
DTSTAMP:20260420T200857
CREATED:20220228T171509Z
LAST-MODIFIED:20220228T171509Z
UID:74293-1650963600-1650992400@leisure360.be
SUMMARY:Vakbeurs Sportaccommodaties
DESCRIPTION:100% focus op binnen- en buitensportaccommodaties: alles voor (ver)bouw\, inrichting en beheer.
URL:https://leisure360.be/evenement/vakbeurs-sportaccommodaties
LOCATION:Houten
CATEGORIES:Vakbeurs
ATTACH;FMTTYPE=:
END:VEVENT
BEGIN:VEVENT
DTSTART;TZID=Europe/Amsterdam:20220414T090000
DTEND;TZID=Europe/Amsterdam:20220414T170000
DTSTAMP:20260420T200857
CREATED:20220308T092357Z
LAST-MODIFIED:20220308T092357Z
UID:74381-1649926800-1649955600@leisure360.be
SUMMARY:Event Summit
DESCRIPTION:EventSummit is dé dag voor de gehele evenementenindustrie. Effectief en efficiënt zakendoen\, inspiratie op doen en kennis opdoen.
URL:https://leisure360.be/evenement/event-summit
CATEGORIES:Congres,Vakbeurs
ATTACH;FMTTYPE=:
END:VEVENT
BEGIN:VEVENT
DTSTART;TZID=Europe/Amsterdam:20220402T193000
DTEND;TZID=Europe/Amsterdam:20220402T230000
DTSTAMP:20260420T200857
CREATED:20220321T191907Z
LAST-MODIFIED:20220321T191907Z
UID:74581-1648927800-1648940400@leisure360.be
SUMMARY:Scare Event
DESCRIPTION:Na een succesvolle eerste editie keert het Scare Event dit jaar terug op zaterdag 2 april. Dit is de eerste scare en horror conferentie van Nederland. Tijdens dit event zullen er lezingen worden gegeven\, zijn er standhouders aanwezig en worden de Scare Awards uitgereikt.
URL:https://leisure360.be/evenement/scare-event
CATEGORIES:Vakbeurs
ATTACH;FMTTYPE=:
END:VEVENT
END:VCALENDAR