BEGIN:VCALENDAR
VERSION:2.0
PRODID:-//Leisure360.be - ECPv6.6.3//NONSGML v1.0//EN
CALSCALE:GREGORIAN
METHOD:PUBLISH
X-WR-CALNAME:Leisure360.be
X-ORIGINAL-URL:https://leisure360.be
X-WR-CALDESC:Evenementen voor Leisure360.be
REFRESH-INTERVAL;VALUE=DURATION:PT1H
X-Robots-Tag:noindex
X-PUBLISHED-TTL:PT1H
BEGIN:VTIMEZONE
TZID:Europe/Amsterdam
BEGIN:DAYLIGHT
TZOFFSETFROM:+0100
TZOFFSETTO:+0200
TZNAME:CEST
DTSTART:20210328T010000
END:DAYLIGHT
BEGIN:STANDARD
TZOFFSETFROM:+0200
TZOFFSETTO:+0100
TZNAME:CET
DTSTART:20211031T010000
END:STANDARD
END:VTIMEZONE
BEGIN:VEVENT
DTSTART;TZID=Europe/Amsterdam:20211116T100000
DTEND;TZID=Europe/Amsterdam:20211118T180000
DTSTAMP:20260421T003105
CREATED:20210531T141443Z
LAST-MODIFIED:20210531T141443Z
UID:70264-1637056800-1637258400@leisure360.be
SUMMARY:Recreatie Vakbeurs
DESCRIPTION:Grootste Nederlandse vakbeurs voor de hele recreatiesector
URL:https://leisure360.be/evenement/70264
LOCATION:evenementenhal Hardenberg\, Hardenberg\, Nederland
CATEGORIES:Vakbeurs
ATTACH;FMTTYPE=:
END:VEVENT
BEGIN:VEVENT
DTSTART;TZID=Europe/Amsterdam:20211116T090000
DTEND;TZID=Europe/Amsterdam:20211119T170000
DTSTAMP:20260421T003105
CREATED:20210629T082417Z
LAST-MODIFIED:20210629T082417Z
UID:70871-1637053200-1637341200@leisure360.be
SUMMARY:IAAPA Expo
DESCRIPTION:Grootste internationale vakbeurs ter wereld voor de attractiesector
URL:https://leisure360.be/evenement/iaapa-expo
LOCATION:Orlando\, Florida (VS)\, Orlando\, florida\, Verenigde Staten
CATEGORIES:Vakbeurs
ATTACH;FMTTYPE=:
END:VEVENT
BEGIN:VEVENT
DTSTART;TZID=Europe/Amsterdam:20211113T080000
DTEND;TZID=Europe/Amsterdam:20211117T170000
DTSTAMP:20260421T003105
CREATED:20210727T132031Z
LAST-MODIFIED:20210727T132031Z
UID:71469-1636790400-1637168400@leisure360.be
SUMMARY:VR-Days; immersive tech week
DESCRIPTION:Op de 7e VR Days in Amsterdam wordt een breed overzicht van immersive technieken gepresenteerd. Waar het voorheen vooral draaide om Virtual Reality (VR) zijn andere vormen van presentatietechnieken inmiddels niet meer weg te denken.
URL:https://leisure360.be/evenement/vr-days-immersive-tech-week
LOCATION:Amsterdam
CATEGORIES:Vakbeurs
ATTACH;FMTTYPE=:
END:VEVENT
BEGIN:VEVENT
DTSTART;TZID=Europe/Amsterdam:20211110T090000
DTEND;TZID=Europe/Amsterdam:20211111T170000
DTSTAMP:20260421T003105
CREATED:20210629T144251Z
LAST-MODIFIED:20210629T144251Z
UID:70926-1636534800-1636650000@leisure360.be
SUMMARY:Family Attraction Expo
DESCRIPTION:Beurs met kennisprogramma\, gericht op attracties en bezoekerscentra
URL:https://leisure360.be/evenement/family-attraction-expo
LOCATION:Birmingham\, Birmingham\, Verenigd Koninkrijk
CATEGORIES:Internationaal,Vakbeurs
ATTACH;FMTTYPE=:
END:VEVENT
BEGIN:VEVENT
DTSTART;TZID=Europe/Amsterdam:20211102T080000
DTEND;TZID=Europe/Amsterdam:20211104T170000
DTSTAMP:20260421T003105
CREATED:20210706T102720Z
LAST-MODIFIED:20210706T102720Z
UID:71031-1635840000-1636045200@leisure360.be
SUMMARY:SETT outdoor hospitality
DESCRIPTION:Franse vakbeurs voor openluchtrecreatie en campings
URL:https://leisure360.be/evenement/sett-outdoor-hospitality
LOCATION:Montpellier\, Montpellier\, Frankrijk
CATEGORIES:Internationaal,Vakbeurs
ATTACH;FMTTYPE=:
END:VEVENT
BEGIN:VEVENT
DTSTART;TZID=Europe/Amsterdam:20211026T100000
DTEND;TZID=Europe/Amsterdam:20211029T180000
DTSTAMP:20260421T003105
CREATED:20210629T091543Z
LAST-MODIFIED:20210629T091543Z
UID:70886-1635242400-1635530400@leisure360.be
SUMMARY:Freizeit Sport Baden (FSB)
DESCRIPTION:Internationale vakbeurs voor leisure\, sport\, zwembaden en wellness faciliteiten
URL:https://leisure360.be/evenement/freizeit-sport-baden-fsb
LOCATION:Keulen\, Keulen\, Duitsland
CATEGORIES:Internationaal,Vakbeurs
ATTACH;FMTTYPE=:
END:VEVENT
BEGIN:VEVENT
DTSTART;TZID=Europe/Amsterdam:20211016T080000
DTEND;TZID=Europe/Amsterdam:20211024T170000
DTSTAMP:20260421T003105
CREATED:20210629T141357Z
LAST-MODIFIED:20210629T141357Z
UID:70912-1634371200-1635094800@leisure360.be
SUMMARY:Dutch Design Week
DESCRIPTION:Evenement rond ‘ontwerpen’ in de breedste zin van het woord. Ook nuttig als inspiratiebron voor de recreatiesector.
URL:https://leisure360.be/evenement/dutch-design-week
LOCATION:Eindhoven\, Eindhoven\, Nederland
CATEGORIES:Vakbeurs
ATTACH;FMTTYPE=:
END:VEVENT
BEGIN:VEVENT
DTSTART;TZID=Europe/Amsterdam:20211012T090000
DTEND;TZID=Europe/Amsterdam:20211012T180000
DTSTAMP:20260421T003105
CREATED:20210716T132432Z
LAST-MODIFIED:20210716T132432Z
UID:71342-1634029200-1634061600@leisure360.be
SUMMARY:Praktijkdag Vakantieparken
DESCRIPTION:De markt is Booming en veel nieuwe vakantieparken komen eraan! Het is daarom des te belangrijker te kiezen voor een unieke propositie en onderscheidend vermogen. Deze praktijkdag wordt niet voor niets gehouden op het park Puur Exloo in Drenthe: PUUR Exloo is het eerste resort met een volledige receptieloze aankomst gecombineerd met een persoonlijke ontvangst van alle gasten. Utra luxe villa’s met de laatste consumentengadgets van Sonos tot Netflix en van Sauna tot Sunshower. Deze villa’s kennen de meest luxe complete uitvoering. Een resort dat het moet doen zonder uitgebreide faciliteiten en medewerkers en daardoor volledig gericht op de regio met de introductie van de eerste Beleveniskaart voor vakantieparken. De opzet van het ondernemersplatform Vrienden van PUUR Exloo is een slimme tool voor een nieuwe inkomstenstroom uit de On-Line verkopen aan de gast.
URL:https://leisure360.be/evenement/praktijkdag-vakantieparken
LOCATION:Exloo\, Exloo (Drenthe)
CATEGORIES:Vakbeurs
ATTACH;FMTTYPE=:
END:VEVENT
BEGIN:VEVENT
DTSTART;TZID=Europe/Amsterdam:20211012T080000
DTEND;TZID=Europe/Amsterdam:20211014T170000
DTSTAMP:20260421T003105
CREATED:20210706T104910Z
LAST-MODIFIED:20210706T104910Z
UID:71035-1634025600-1634230800@leisure360.be
SUMMARY:Salon Atlantica (vakbeurs campings)
DESCRIPTION:Vakbeurs voor campings en glampings in Frankrijk
URL:https://leisure360.be/evenement/salon-atlantica-vakbeurs-campings
LOCATION:La Rochelle\, La Rochelle\, Frankrijk
CATEGORIES:Internationaal,Vakbeurs
ATTACH;FMTTYPE=:
END:VEVENT
BEGIN:VEVENT
DTSTART;TZID=Europe/Amsterdam:20211011T110000
DTEND;TZID=Europe/Amsterdam:20211013T180000
DTSTAMP:20260421T003105
CREATED:20211001T153524Z
LAST-MODIFIED:20211001T153524Z
UID:72310-1633950000-1634148000@leisure360.be
SUMMARY:Horecavakbeurs BBB Maastricht
DESCRIPTION:Horecavakbeurs BBB Maastricht verwelkomt jaarlijks zo’n 14.000 vertegenwoordigers uit alle horecasegmenten: hotels\, restaurants\, cafés\, bars\, disco’s\, lunchrooms\, B&B\, fast service\, catering en instellingen.
URL:https://leisure360.be/evenement/horecavakbeur-bbb-maastricht
CATEGORIES:Vakbeurs
ATTACH;FMTTYPE=:
END:VEVENT
BEGIN:VEVENT
DTSTART;TZID=Europe/Amsterdam:20210928T090000
DTEND;TZID=Europe/Amsterdam:20210930T160000
DTSTAMP:20260421T003105
CREATED:20210629T081954Z
LAST-MODIFIED:20210629T081954Z
UID:70866-1632819600-1633017600@leisure360.be
SUMMARY:IAAPA Expo Europe
DESCRIPTION:Internationale vakbeurs voor de attractiesector
URL:https://leisure360.be/evenement/iaapa-expo-europe
LOCATION:Barcelona\, Barcelona\, Spanje
CATEGORIES:Vakbeurs
ATTACH;FMTTYPE=:
END:VEVENT
BEGIN:VEVENT
DTSTART;TZID=Europe/Amsterdam:20210922T090000
DTEND;TZID=Europe/Amsterdam:20210923T170000
DTSTAMP:20260421T003105
CREATED:20210606T094322Z
LAST-MODIFIED:20210606T094322Z
UID:70411-1632301200-1632416400@leisure360.be
SUMMARY:Vakbeurs Openbare Ruimte
DESCRIPTION:Alles over ontwerp\, inrichting\, onderhoud en beheer van openbare ruimte. Meer informatie: www.openbareruimte.nl
URL:https://leisure360.be/evenement/vakbeurs-openbare-ruimte
LOCATION:Jaarbeurs Utrecht
CATEGORIES:Vakbeurs
ATTACH;FMTTYPE=:
END:VEVENT
BEGIN:VEVENT
DTSTART;TZID=Europe/Amsterdam:20210916T080000
DTEND;TZID=Europe/Amsterdam:20210918T170000
DTSTAMP:20260421T003105
CREATED:20210629T143630Z
LAST-MODIFIED:20210629T143630Z
UID:70922-1631779200-1631984400@leisure360.be
SUMMARY:The Glamping Show
DESCRIPTION:Specialistisch outdoor event rond Glamping in Groot Brittannië
URL:https://leisure360.be/evenement/the-glamping-show
LOCATION:Stoneleigh\, Stoneleigh\, Verenigd Koninkrijk
CATEGORIES:Vakbeurs
ATTACH;FMTTYPE=:
END:VEVENT
END:VCALENDAR